BEGIN:VCALENDAR
VERSION:2.0
PRODID:-//Verschickungsheime - ECPv6.15.20//NONSGML v1.0//EN
CALSCALE:GREGORIAN
METHOD:PUBLISH
X-ORIGINAL-URL:https://verschickungsheime.de
X-WR-CALDESC:Veranstaltungen für Verschickungsheime
REFRESH-INTERVAL;VALUE=DURATION:PT1H
X-Robots-Tag:noindex
X-PUBLISHED-TTL:PT1H
BEGIN:VTIMEZONE
TZID:Europe/Berlin
BEGIN:DAYLIGHT
TZOFFSETFROM:+0100
TZOFFSETTO:+0200
TZNAME:CEST
DTSTART:20200329T010000
END:DAYLIGHT
BEGIN:STANDARD
TZOFFSETFROM:+0200
TZOFFSETTO:+0100
TZNAME:CET
DTSTART:20201025T010000
END:STANDARD
BEGIN:DAYLIGHT
TZOFFSETFROM:+0100
TZOFFSETTO:+0200
TZNAME:CEST
DTSTART:20210328T010000
END:DAYLIGHT
BEGIN:STANDARD
TZOFFSETFROM:+0200
TZOFFSETTO:+0100
TZNAME:CET
DTSTART:20211031T010000
END:STANDARD
BEGIN:DAYLIGHT
TZOFFSETFROM:+0100
TZOFFSETTO:+0200
TZNAME:CEST
DTSTART:20220327T010000
END:DAYLIGHT
BEGIN:STANDARD
TZOFFSETFROM:+0200
TZOFFSETTO:+0100
TZNAME:CET
DTSTART:20221030T010000
END:STANDARD
END:VTIMEZONE
BEGIN:VEVENT
DTSTART;TZID=Europe/Berlin:20210115T170000
DTEND;TZID=Europe/Berlin:20210115T190000
DTSTAMP:20260424T015816
CREATED:20210105T174634Z
LAST-MODIFIED:20210105T174635Z
UID:10000553-1610730000-1610737200@verschickungsheime.de
SUMMARY:Selbsthilfetreffen Baden-Würtemberg
DESCRIPTION:Selbsthilfe-Onlinetreffen für alle aus Baden-Würtemberg und auch alle\, die in Baden-Würtemberger Verschickungsheimen waren: am Freitag\, 15.01.2021 von 17.00 – 19.00 Uhr\, Anmeldung hier: verschickungsheime-bw@gmx.de
URL:https://verschickungsheime.de/event/selbsthilfetreffen-baden-wuertemberg/
END:VEVENT
END:VCALENDAR