BEGIN:VCALENDAR
VERSION:2.0
PRODID:-//Verschickungsheime - ECPv6.15.20//NONSGML v1.0//EN
CALSCALE:GREGORIAN
METHOD:PUBLISH
X-ORIGINAL-URL:https://verschickungsheime.de
X-WR-CALDESC:Veranstaltungen für Verschickungsheime
REFRESH-INTERVAL;VALUE=DURATION:PT1H
X-Robots-Tag:noindex
X-PUBLISHED-TTL:PT1H
BEGIN:VTIMEZONE
TZID:Europe/Berlin
BEGIN:DAYLIGHT
TZOFFSETFROM:+0100
TZOFFSETTO:+0200
TZNAME:CEST
DTSTART:20200329T010000
END:DAYLIGHT
BEGIN:STANDARD
TZOFFSETFROM:+0200
TZOFFSETTO:+0100
TZNAME:CET
DTSTART:20201025T010000
END:STANDARD
BEGIN:DAYLIGHT
TZOFFSETFROM:+0100
TZOFFSETTO:+0200
TZNAME:CEST
DTSTART:20210328T010000
END:DAYLIGHT
BEGIN:STANDARD
TZOFFSETFROM:+0200
TZOFFSETTO:+0100
TZNAME:CET
DTSTART:20211031T010000
END:STANDARD
BEGIN:DAYLIGHT
TZOFFSETFROM:+0100
TZOFFSETTO:+0200
TZNAME:CEST
DTSTART:20220327T010000
END:DAYLIGHT
BEGIN:STANDARD
TZOFFSETFROM:+0200
TZOFFSETTO:+0100
TZNAME:CET
DTSTART:20221030T010000
END:STANDARD
END:VTIMEZONE
BEGIN:VEVENT
DTSTART;TZID=Europe/Berlin:20210207T140000
DTEND;TZID=Europe/Berlin:20210207T160000
DTSTAMP:20260424T005457
CREATED:20210128T211744Z
LAST-MODIFIED:20210206T003435Z
UID:10000566-1612706400-1612713600@verschickungsheime.de
SUMMARY:Selbsthilfe Termin (Hessen)
DESCRIPTION:Preis: Kostenlos Dauer: 2 Std. Online: Zoom Liebe Verschickungskinder aus Hessen. Seit Monaten können wir uns nicht treffen\, jetzt möchte ich einmal einen Versuch per Video starten. Vielleicht habt Ihr ja Lust\, euch auch mal wieder auszutauschen?  Ich würde mich freuen\, wenn Ihr euch anmeldet. Hier\, unter verschickungsheime-hessen@mail.de an.
URL:https://verschickungsheime.de/event/selbsthilfe-termin-hessen/
CATEGORIES:Hessen
END:VEVENT
END:VCALENDAR