BEGIN:VCALENDAR
VERSION:2.0
PRODID:-//Verschickungsheime - ECPv6.15.20//NONSGML v1.0//EN
CALSCALE:GREGORIAN
METHOD:PUBLISH
X-WR-CALNAME:Verschickungsheime
X-ORIGINAL-URL:https://verschickungsheime.de
X-WR-CALDESC:Veranstaltungen für Verschickungsheime
REFRESH-INTERVAL;VALUE=DURATION:PT1H
X-Robots-Tag:noindex
X-PUBLISHED-TTL:PT1H
BEGIN:VTIMEZONE
TZID:Europe/Berlin
BEGIN:DAYLIGHT
TZOFFSETFROM:+0100
TZOFFSETTO:+0200
TZNAME:CEST
DTSTART:20200329T010000
END:DAYLIGHT
BEGIN:STANDARD
TZOFFSETFROM:+0200
TZOFFSETTO:+0100
TZNAME:CET
DTSTART:20201025T010000
END:STANDARD
BEGIN:DAYLIGHT
TZOFFSETFROM:+0100
TZOFFSETTO:+0200
TZNAME:CEST
DTSTART:20210328T010000
END:DAYLIGHT
BEGIN:STANDARD
TZOFFSETFROM:+0200
TZOFFSETTO:+0100
TZNAME:CET
DTSTART:20211031T010000
END:STANDARD
BEGIN:DAYLIGHT
TZOFFSETFROM:+0100
TZOFFSETTO:+0200
TZNAME:CEST
DTSTART:20220327T010000
END:DAYLIGHT
BEGIN:STANDARD
TZOFFSETFROM:+0200
TZOFFSETTO:+0100
TZNAME:CET
DTSTART:20221030T010000
END:STANDARD
END:VTIMEZONE
BEGIN:VEVENT
DTSTART;TZID=Europe/Berlin:20210210T180000
DTEND;TZID=Europe/Berlin:20210210T200000
DTSTAMP:20260424T005308
CREATED:20210121T130237Z
LAST-MODIFIED:20210202T180118Z
UID:10000559-1612980000-1612987200@verschickungsheime.de
SUMMARY:Treffen für alle Verschickungskinder\, die aus Berlin verschickt wurden
DESCRIPTION:Liebe Berliner Verschickungskinder\, die ihr aus Berlin verschickt wurden\, wir wollen euch gerne einmal einladen um eure Geschichten zu hören und herauszufinden\, in welche Heime aus Berlin verschickt wurden und wie wir vielleicht vor Ort an die Politik herantreten sollen. Anmelden unter: Buko@verschickungsheime.de
URL:https://verschickungsheime.de/event/treff-fuer-alle-verschickungskinder-die-aus-berlin-verschickt-wurden/
CATEGORIES:Berlin
END:VEVENT
END:VCALENDAR