BEGIN:VCALENDAR
VERSION:2.0
PRODID:-//Verschickungsheime - ECPv6.15.20//NONSGML v1.0//EN
CALSCALE:GREGORIAN
METHOD:PUBLISH
X-WR-CALNAME:Verschickungsheime
X-ORIGINAL-URL:https://verschickungsheime.de
X-WR-CALDESC:Veranstaltungen für Verschickungsheime
REFRESH-INTERVAL;VALUE=DURATION:PT1H
X-Robots-Tag:noindex
X-PUBLISHED-TTL:PT1H
BEGIN:VTIMEZONE
TZID:Europe/Berlin
BEGIN:DAYLIGHT
TZOFFSETFROM:+0100
TZOFFSETTO:+0200
TZNAME:CEST
DTSTART:20200329T010000
END:DAYLIGHT
BEGIN:STANDARD
TZOFFSETFROM:+0200
TZOFFSETTO:+0100
TZNAME:CET
DTSTART:20201025T010000
END:STANDARD
BEGIN:DAYLIGHT
TZOFFSETFROM:+0100
TZOFFSETTO:+0200
TZNAME:CEST
DTSTART:20210328T010000
END:DAYLIGHT
BEGIN:STANDARD
TZOFFSETFROM:+0200
TZOFFSETTO:+0100
TZNAME:CET
DTSTART:20211031T010000
END:STANDARD
BEGIN:DAYLIGHT
TZOFFSETFROM:+0100
TZOFFSETTO:+0200
TZNAME:CEST
DTSTART:20220327T010000
END:DAYLIGHT
BEGIN:STANDARD
TZOFFSETFROM:+0200
TZOFFSETTO:+0100
TZNAME:CET
DTSTART:20221030T010000
END:STANDARD
END:VTIMEZONE
BEGIN:VEVENT
DTSTART;TZID=Europe/Berlin:20210213T110000
DTEND;TZID=Europe/Berlin:20210213T130000
DTSTAMP:20260424T005310
CREATED:20210128T191556Z
LAST-MODIFIED:20210202T114545Z
UID:10000562-1613214000-1613221200@verschickungsheime.de
SUMMARY:Selbsthilfe
DESCRIPTION:Online-Veranstaltung Samstag\, 13. Februar 2021 von 11:00 bis 13:00  Preis: Kostenlos Dauer: 2 Std. Coronabedingt können unsere Selbsthilfetreffen momentan nur online stattfinden und maximal 10 Personen pro Termin teilnehmen.Bitte meldet euch unter verschickungsheime-bw@gmx.de an. Andrea Weyrauch wird das Treffen leiten und den LINK zur Teilnahme einen Tag vor dem Termin per Mail versenden. 
URL:https://verschickungsheime.de/event/selbsthilfe-baden-wuerttemberg/
CATEGORIES:Baden-Württemberg
END:VEVENT
BEGIN:VEVENT
DTSTART;TZID=Europe/Berlin:20210213T160000
DTEND;TZID=Europe/Berlin:20210213T180000
DTSTAMP:20260424T005310
CREATED:20210128T200311Z
LAST-MODIFIED:20210206T013859Z
UID:10000565-1613232000-1613239200@verschickungsheime.de
SUMMARY:St. Peter-Ording\, Videokonferenz
DESCRIPTION:Art der Veranstaltung: ViedeokonferenzVeranstaltungs-Ort: VirtuellBeschreibung: Bitte sendet mir eine Nachricht\, dann erhaltet Ihr die Tagesordnung: michaela_dinter@yahoo.com
URL:https://verschickungsheime.de/event/st-peter-ording-videokonferenz/
CATEGORIES:Landeskoordination,Schleswig-Holstein
END:VEVENT
END:VCALENDAR