BEGIN:VCALENDAR
VERSION:2.0
PRODID:-//Verschickungsheime - ECPv6.15.20//NONSGML v1.0//EN
CALSCALE:GREGORIAN
METHOD:PUBLISH
X-ORIGINAL-URL:https://verschickungsheime.de
X-WR-CALDESC:Veranstaltungen für Verschickungsheime
REFRESH-INTERVAL;VALUE=DURATION:PT1H
X-Robots-Tag:noindex
X-PUBLISHED-TTL:PT1H
BEGIN:VTIMEZONE
TZID:Europe/Berlin
BEGIN:DAYLIGHT
TZOFFSETFROM:+0100
TZOFFSETTO:+0200
TZNAME:CEST
DTSTART:20200329T010000
END:DAYLIGHT
BEGIN:STANDARD
TZOFFSETFROM:+0200
TZOFFSETTO:+0100
TZNAME:CET
DTSTART:20201025T010000
END:STANDARD
BEGIN:DAYLIGHT
TZOFFSETFROM:+0100
TZOFFSETTO:+0200
TZNAME:CEST
DTSTART:20210328T010000
END:DAYLIGHT
BEGIN:STANDARD
TZOFFSETFROM:+0200
TZOFFSETTO:+0100
TZNAME:CET
DTSTART:20211031T010000
END:STANDARD
BEGIN:DAYLIGHT
TZOFFSETFROM:+0100
TZOFFSETTO:+0200
TZNAME:CEST
DTSTART:20220327T010000
END:DAYLIGHT
BEGIN:STANDARD
TZOFFSETFROM:+0200
TZOFFSETTO:+0100
TZNAME:CET
DTSTART:20221030T010000
END:STANDARD
END:VTIMEZONE
BEGIN:VEVENT
DTSTART;TZID=Europe/Berlin:20210219T170000
DTEND;TZID=Europe/Berlin:20210219T190000
DTSTAMP:20260424T005522
CREATED:20210128T191823Z
LAST-MODIFIED:20210202T113351Z
UID:10000563-1613754000-1613761200@verschickungsheime.de
SUMMARY:Selbsthilfe Baden-Württemberg
DESCRIPTION:Online-Veranstaltung Freitag\, 19. Februar 2021 von 17:00 bis 19:00  Preis: Kostenlos Dauer: 2 Std. Coronabedingt können unsere Selbsthilfetreffen momentan nur online stattfinden und maximal 10 Personen pro Termin teilnehmen.Bitte meldet euch unter verschickungsheime-bw@gmx.de an. Andrea Weyrauch wird das Treffen leiten und den LINK zur Teilnahme einen Tag vor dem Termin per Mail versenden. 
URL:https://verschickungsheime.de/event/selbsthilfe-baden-wuerttemberg-2/
CATEGORIES:Baden-Württemberg
END:VEVENT
END:VCALENDAR