BEGIN:VCALENDAR
VERSION:2.0
PRODID:-//Verschickungsheime - ECPv6.15.20//NONSGML v1.0//EN
CALSCALE:GREGORIAN
METHOD:PUBLISH
X-ORIGINAL-URL:https://verschickungsheime.de
X-WR-CALDESC:Veranstaltungen für Verschickungsheime
REFRESH-INTERVAL;VALUE=DURATION:PT1H
X-Robots-Tag:noindex
X-PUBLISHED-TTL:PT1H
BEGIN:VTIMEZONE
TZID:Europe/Berlin
BEGIN:DAYLIGHT
TZOFFSETFROM:+0100
TZOFFSETTO:+0200
TZNAME:CEST
DTSTART:20200329T010000
END:DAYLIGHT
BEGIN:STANDARD
TZOFFSETFROM:+0200
TZOFFSETTO:+0100
TZNAME:CET
DTSTART:20201025T010000
END:STANDARD
BEGIN:DAYLIGHT
TZOFFSETFROM:+0100
TZOFFSETTO:+0200
TZNAME:CEST
DTSTART:20210328T010000
END:DAYLIGHT
BEGIN:STANDARD
TZOFFSETFROM:+0200
TZOFFSETTO:+0100
TZNAME:CET
DTSTART:20211031T010000
END:STANDARD
BEGIN:DAYLIGHT
TZOFFSETFROM:+0100
TZOFFSETTO:+0200
TZNAME:CEST
DTSTART:20220327T010000
END:DAYLIGHT
BEGIN:STANDARD
TZOFFSETFROM:+0200
TZOFFSETTO:+0100
TZNAME:CET
DTSTART:20221030T010000
END:STANDARD
END:VTIMEZONE
BEGIN:VEVENT
DTSTART;TZID=Europe/Berlin:20210309T180000
DTEND;TZID=Europe/Berlin:20210309T200000
DTSTAMP:20260423T234924
CREATED:20210228T084730Z
LAST-MODIFIED:20210228T084732Z
UID:10000584-1615312800-1615320000@verschickungsheime.de
SUMMARY:3. Videotreffen NRW
DESCRIPTION:Tagesordnung:1. Aktuelles2. Reflektion (z.B. Welche Auswirkungen hatte die Verschickung auf mein Leben?)3. Verschiedenes \n\n\n\nDiesmal werden neben dem Plenum auch Breakoutrooms eingerichtet\, in denen sich die Teilnehmer auf Wunsch in Kleingruppen besprechen können. \n\n\n\nAnmeldungen bitte an: detlef.lichtrauter@akv-nrw.de \, den Teilnahmelink schicke ich per Email.
URL:https://verschickungsheime.de/event/3-videotreffen-nrw/
CATEGORIES:NRW
END:VEVENT
END:VCALENDAR