BEGIN:VCALENDAR
VERSION:2.0
PRODID:-//Verschickungsheime - ECPv6.15.20//NONSGML v1.0//EN
CALSCALE:GREGORIAN
METHOD:PUBLISH
X-ORIGINAL-URL:https://verschickungsheime.de
X-WR-CALDESC:Veranstaltungen für Verschickungsheime
REFRESH-INTERVAL;VALUE=DURATION:PT1H
X-Robots-Tag:noindex
X-PUBLISHED-TTL:PT1H
BEGIN:VTIMEZONE
TZID:Europe/Berlin
BEGIN:DAYLIGHT
TZOFFSETFROM:+0100
TZOFFSETTO:+0200
TZNAME:CEST
DTSTART:20200329T010000
END:DAYLIGHT
BEGIN:STANDARD
TZOFFSETFROM:+0200
TZOFFSETTO:+0100
TZNAME:CET
DTSTART:20201025T010000
END:STANDARD
BEGIN:DAYLIGHT
TZOFFSETFROM:+0100
TZOFFSETTO:+0200
TZNAME:CEST
DTSTART:20210328T010000
END:DAYLIGHT
BEGIN:STANDARD
TZOFFSETFROM:+0200
TZOFFSETTO:+0100
TZNAME:CET
DTSTART:20211031T010000
END:STANDARD
BEGIN:DAYLIGHT
TZOFFSETFROM:+0100
TZOFFSETTO:+0200
TZNAME:CEST
DTSTART:20220327T010000
END:DAYLIGHT
BEGIN:STANDARD
TZOFFSETFROM:+0200
TZOFFSETTO:+0100
TZNAME:CET
DTSTART:20221030T010000
END:STANDARD
END:VTIMEZONE
BEGIN:VEVENT
DTSTART;TZID=Europe/Berlin:20210318T190000
DTEND;TZID=Europe/Berlin:20210318T210000
DTSTAMP:20260423T235425
CREATED:20210318T131116Z
LAST-MODIFIED:20210318T131118Z
UID:10000593-1616094000-1616101200@verschickungsheime.de
SUMMARY:Dass Elend der Verschickungskinder Online-Vortrag Rosa-Luxemburg-Stiftung Brandenburg
DESCRIPTION:Das Elend der Verschickungskinder – Vortrag und Buchvorstellung von Anja Röhl\, für Interessierte der Rosa-Luxemburg-Stiftung Brandenburg\,  Anmelden über diese Seite: https://brandenburg.rosalux.de/
URL:https://verschickungsheime.de/event/dass-elend-der-verschickungskinder-online-vortrag-rosa-luxemburg-stiftung-brandenburg/
END:VEVENT
END:VCALENDAR