BEGIN:VCALENDAR
VERSION:2.0
PRODID:-//Verschickungsheime - ECPv6.15.20//NONSGML v1.0//EN
CALSCALE:GREGORIAN
METHOD:PUBLISH
X-ORIGINAL-URL:https://verschickungsheime.de
X-WR-CALDESC:Veranstaltungen für Verschickungsheime
REFRESH-INTERVAL;VALUE=DURATION:PT1H
X-Robots-Tag:noindex
X-PUBLISHED-TTL:PT1H
BEGIN:VTIMEZONE
TZID:Europe/Berlin
BEGIN:DAYLIGHT
TZOFFSETFROM:+0100
TZOFFSETTO:+0200
TZNAME:CEST
DTSTART:20200329T010000
END:DAYLIGHT
BEGIN:STANDARD
TZOFFSETFROM:+0200
TZOFFSETTO:+0100
TZNAME:CET
DTSTART:20201025T010000
END:STANDARD
BEGIN:DAYLIGHT
TZOFFSETFROM:+0100
TZOFFSETTO:+0200
TZNAME:CEST
DTSTART:20210328T010000
END:DAYLIGHT
BEGIN:STANDARD
TZOFFSETFROM:+0200
TZOFFSETTO:+0100
TZNAME:CET
DTSTART:20211031T010000
END:STANDARD
BEGIN:DAYLIGHT
TZOFFSETFROM:+0100
TZOFFSETTO:+0200
TZNAME:CEST
DTSTART:20220327T010000
END:DAYLIGHT
BEGIN:STANDARD
TZOFFSETFROM:+0200
TZOFFSETTO:+0100
TZNAME:CET
DTSTART:20221030T010000
END:STANDARD
END:VTIMEZONE
BEGIN:VEVENT
DTSTART;TZID=Europe/Berlin:20210320T150000
DTEND;TZID=Europe/Berlin:20210320T163000
DTSTAMP:20260423T234906
CREATED:20210222T072748Z
LAST-MODIFIED:20210222T081448Z
UID:10000580-1616252400-1616257800@verschickungsheime.de
SUMMARY:DDR-Kurkinder treffen sich
DESCRIPTION:Auch aus DDR-Kinderkurheimen kommen jetzt Berichte von erinnerten Grausamkeiten.  Auch diese Heime sind oft in Nachfolgeschaft der NSV betrieben worden. Nach 1945 brauchte man sie für die vielen Waisen und Flüchtlinge\, später wurden sie für Gesundheitskuren genutzt. Die DDR hat eine andere Gesetzgebung und ein anderes Staats- und Verwaltungssystem als in der BRD gehabt\, trotzdem klingen die Erinnerungen aus den Kureinrichtungen ähnlich.    Offenbar ist es auch in der DDR nicht gelungen\, trotz eines antifaschistischen Anspruchs\, Reliquien autoritärer und schwarzer NS-Pädagogik aus der Medizin und der Pädagogik  zu eliminieren. Wie verbreitet das war\, können nur die DDR-Kurkinder selbst an den Tag bringen. Wir sammeln Berichte\, positive und negative willkommen!  \n\n\n\nDer Arbeitskreis DDR-Kurkinder trifft sich\, um DDR-Kurkinder mit traumatischen Erinnerungen zu vernetzen\, mit dem Ziel der Aufarbeitung und Erforschung auch der Situation in der DDR.
URL:https://verschickungsheime.de/event/ddr-kurkinder-treffen-sich/
END:VEVENT
END:VCALENDAR