BEGIN:VCALENDAR
VERSION:2.0
PRODID:-//Verschickungsheime - ECPv6.15.20//NONSGML v1.0//EN
CALSCALE:GREGORIAN
METHOD:PUBLISH
X-WR-CALNAME:Verschickungsheime
X-ORIGINAL-URL:https://verschickungsheime.de
X-WR-CALDESC:Veranstaltungen für Verschickungsheime
REFRESH-INTERVAL;VALUE=DURATION:PT1H
X-Robots-Tag:noindex
X-PUBLISHED-TTL:PT1H
BEGIN:VTIMEZONE
TZID:Europe/Berlin
BEGIN:DAYLIGHT
TZOFFSETFROM:+0100
TZOFFSETTO:+0200
TZNAME:CEST
DTSTART:20200329T010000
END:DAYLIGHT
BEGIN:STANDARD
TZOFFSETFROM:+0200
TZOFFSETTO:+0100
TZNAME:CET
DTSTART:20201025T010000
END:STANDARD
BEGIN:DAYLIGHT
TZOFFSETFROM:+0100
TZOFFSETTO:+0200
TZNAME:CEST
DTSTART:20210328T010000
END:DAYLIGHT
BEGIN:STANDARD
TZOFFSETFROM:+0200
TZOFFSETTO:+0100
TZNAME:CET
DTSTART:20211031T010000
END:STANDARD
BEGIN:DAYLIGHT
TZOFFSETFROM:+0100
TZOFFSETTO:+0200
TZNAME:CEST
DTSTART:20220327T010000
END:DAYLIGHT
BEGIN:STANDARD
TZOFFSETFROM:+0200
TZOFFSETTO:+0100
TZNAME:CET
DTSTART:20221030T010000
END:STANDARD
END:VTIMEZONE
BEGIN:VEVENT
DTSTART;TZID=Europe/Berlin:20210414T180000
DTEND;TZID=Europe/Berlin:20210414T200000
DTSTAMP:20260423T224651
CREATED:20210316T083541Z
LAST-MODIFIED:20210316T083634Z
UID:10000592-1618423200-1618430400@verschickungsheime.de
SUMMARY:4. Videotreffen NRW
DESCRIPTION:Anmeldungen bitte an: detlef.lichtrauter@akv-nrw.de \, den Teilnahmelink schicke ich per Email.
URL:https://verschickungsheime.de/event/4-videotreffen-nrw/
CATEGORIES:NRW
END:VEVENT
BEGIN:VEVENT
DTSTART;TZID=Europe/Berlin:20210414T193000
DTEND;TZID=Europe/Berlin:20210414T193000
DTSTAMP:20260423T224651
CREATED:20210413T113452Z
LAST-MODIFIED:20210413T114119Z
UID:10000599-1618428600-1618428600@verschickungsheime.de
SUMMARY:Videobeitrag über Verschickungserlebnisse und ein Studiogespräch. WDR Lokalzeit Köln
DESCRIPTION:Am Mittwoch\, den 14.04.21 wird in der WDR Lokalzeit Köln Beginn 19:30 Uhr ein Videobeitrag über unsere Verschickungserlebnisse gesendet\, dann folgt ein kurzes Studiogespräch. 
URL:https://verschickungsheime.de/event/videobeitrag-ueber-verschickungserlebnisse-und-ein-studiogespraech/
END:VEVENT
END:VCALENDAR