BEGIN:VCALENDAR
VERSION:2.0
PRODID:-//Verschickungsheime - ECPv6.15.20//NONSGML v1.0//EN
CALSCALE:GREGORIAN
METHOD:PUBLISH
X-WR-CALNAME:Verschickungsheime
X-ORIGINAL-URL:https://verschickungsheime.de
X-WR-CALDESC:Veranstaltungen für Verschickungsheime
REFRESH-INTERVAL;VALUE=DURATION:PT1H
X-Robots-Tag:noindex
X-PUBLISHED-TTL:PT1H
BEGIN:VTIMEZONE
TZID:Europe/Berlin
BEGIN:DAYLIGHT
TZOFFSETFROM:+0100
TZOFFSETTO:+0200
TZNAME:CEST
DTSTART:20200329T010000
END:DAYLIGHT
BEGIN:STANDARD
TZOFFSETFROM:+0200
TZOFFSETTO:+0100
TZNAME:CET
DTSTART:20201025T010000
END:STANDARD
BEGIN:DAYLIGHT
TZOFFSETFROM:+0100
TZOFFSETTO:+0200
TZNAME:CEST
DTSTART:20210328T010000
END:DAYLIGHT
BEGIN:STANDARD
TZOFFSETFROM:+0200
TZOFFSETTO:+0100
TZNAME:CET
DTSTART:20211031T010000
END:STANDARD
BEGIN:DAYLIGHT
TZOFFSETFROM:+0100
TZOFFSETTO:+0200
TZNAME:CEST
DTSTART:20220327T010000
END:DAYLIGHT
BEGIN:STANDARD
TZOFFSETFROM:+0200
TZOFFSETTO:+0100
TZNAME:CET
DTSTART:20221030T010000
END:STANDARD
END:VTIMEZONE
BEGIN:VEVENT
DTSTART;TZID=Europe/Berlin:20210511T180000
DTEND;TZID=Europe/Berlin:20210511T200000
DTSTAMP:20260423T213644
CREATED:20210415T194927Z
LAST-MODIFIED:20210415T213257Z
UID:10000512-1620756000-1620763200@verschickungsheime.de
SUMMARY:Berliner Aktiven-Schalte
DESCRIPTION:In der Berliner Aktiven-Schalte organisieren und besprechen wir unserer politischen und forschenden Aktivitäten. Es ist für alle offen\, die mittun möchten. In dieser Schalte geht es\, anderes als in der Selbsthilfe-Schalte\, nicht um den Austausch unserer persönlichen Erfahrungen. Link gibt es unter berlin@verschickungsheime.de
URL:https://verschickungsheime.de/event/berliner-selbsthilfe-schalte-3/
CATEGORIES:Berlin
END:VEVENT
BEGIN:VEVENT
DTSTART;TZID=Europe/Berlin:20210511T180000
DTEND;TZID=Europe/Berlin:20210511T200000
DTSTAMP:20260423T213644
CREATED:20210509T210933Z
LAST-MODIFIED:20210509T210934Z
UID:10000606-1620756000-1620763200@verschickungsheime.de
SUMMARY:5.Videotreffen NRW
DESCRIPTION:Liebe Verschickungskinder\,ich lade alle Betroffenen mit NRW-Relevanz (aus NRW in ein anderes Bundesland\, oder aus einem anderen Bundesland nach NRW verschickt\, oder keins von beiden\, jedoch aktueller Wohnort in NRW und interessiert) zum 5. Videotreffen am Diensrag\, den 11.05.2021\, 18.00 – 20.00 Uhr ein.Tagesordnung:1. Aktuelles2. Reflexion3. VerschiedenesWer den Einladungslink nicht per NRW-Verteiler erhalten hat\, kann sich gerne unter detlef.lichtrauter@akv-nrw.de anmelden.Ich hoffe auf rege Teilnahme und grüße ganz herzlich.Detlef Lichtrauter 
URL:https://verschickungsheime.de/event/5-videotreffen-nrw/
END:VEVENT
BEGIN:VEVENT
DTSTART;TZID=Europe/Berlin:20210511T214500
DTEND;TZID=Europe/Berlin:20210511T223000
DTSTAMP:20260423T213644
CREATED:20210508T205411Z
LAST-MODIFIED:20210508T205749Z
UID:10000605-1620769500-1620772200@verschickungsheime.de
SUMMARY:ARD / Report Mainz : Vergewaltigt im Sanatorium- Das Leiden eines Verschickungskindes
DESCRIPTION:
URL:https://verschickungsheime.de/event/report-mainz-vergewaltigt-im-sanatorium-das-leiden-eines-verschickungskindes/
END:VEVENT
END:VCALENDAR