BEGIN:VCALENDAR
VERSION:2.0
PRODID:-//Verschickungsheime - ECPv6.15.20//NONSGML v1.0//EN
CALSCALE:GREGORIAN
METHOD:PUBLISH
X-ORIGINAL-URL:https://verschickungsheime.de
X-WR-CALDESC:Veranstaltungen für Verschickungsheime
REFRESH-INTERVAL;VALUE=DURATION:PT1H
X-Robots-Tag:noindex
X-PUBLISHED-TTL:PT1H
BEGIN:VTIMEZONE
TZID:Europe/Berlin
BEGIN:DAYLIGHT
TZOFFSETFROM:+0100
TZOFFSETTO:+0200
TZNAME:CEST
DTSTART:20200329T010000
END:DAYLIGHT
BEGIN:STANDARD
TZOFFSETFROM:+0200
TZOFFSETTO:+0100
TZNAME:CET
DTSTART:20201025T010000
END:STANDARD
BEGIN:DAYLIGHT
TZOFFSETFROM:+0100
TZOFFSETTO:+0200
TZNAME:CEST
DTSTART:20210328T010000
END:DAYLIGHT
BEGIN:STANDARD
TZOFFSETFROM:+0200
TZOFFSETTO:+0100
TZNAME:CET
DTSTART:20211031T010000
END:STANDARD
BEGIN:DAYLIGHT
TZOFFSETFROM:+0100
TZOFFSETTO:+0200
TZNAME:CEST
DTSTART:20220327T010000
END:DAYLIGHT
BEGIN:STANDARD
TZOFFSETFROM:+0200
TZOFFSETTO:+0100
TZNAME:CET
DTSTART:20221030T010000
END:STANDARD
END:VTIMEZONE
BEGIN:VEVENT
DTSTART;TZID=Europe/Berlin:20210518T170000
DTEND;TZID=Europe/Berlin:20210518T183000
DTSTAMP:20260423T213949
CREATED:20210504T181718Z
LAST-MODIFIED:20210504T181730Z
UID:10000602-1621357200-1621362600@verschickungsheime.de
SUMMARY:Online-Führung: Wanderausstellung "Verwahrlost und gefährdet?"                     Projekt Heimerziehung durch Nora Wohlfarth vom Landesarchiv Ba.-Wü.
DESCRIPTION:    Anmeldung unter:  https://www.landesarchiv-bw.de/de/aktuelles/termine/72743  
URL:https://verschickungsheime.de/event/online-fuehrung-wanderausstellung-verwahrlost-und-gefaehrdet-projekt-heimerziehung-durch-nora-wohlfarth-vom-landesarchiv-ba-wue/
END:VEVENT
BEGIN:VEVENT
DTSTART;TZID=Europe/Berlin:20210518T180000
DTEND;TZID=Europe/Berlin:20210518T193000
DTSTAMP:20260423T213949
CREATED:20210503T042311Z
LAST-MODIFIED:20210503T044226Z
UID:10000519-1621360800-1621366200@verschickungsheime.de
SUMMARY:Zoom-Treffen Kölner Gruppe
DESCRIPTION:Alle Verschickungskinder\, die sich für unsere Selbsthilfegruppe interessieren\,also nicht nur Kölner sondern auch Verschickungskinder\, die damals von Köln aus verschickt wurden\,und andere Interessierte sind herzlich willkommen.Anmeldung unter: Verschickungskids.Koeln.NRW@gmx.de oder ute-kur-verschickungskinder-nrw@outlook.de
URL:https://verschickungsheime.de/event/zoom-treffen-koelner-gruppe-3/
CATEGORIES:NRW
END:VEVENT
END:VCALENDAR