BEGIN:VCALENDAR
VERSION:2.0
PRODID:-//Verschickungsheime - ECPv6.15.20//NONSGML v1.0//EN
CALSCALE:GREGORIAN
METHOD:PUBLISH
X-ORIGINAL-URL:https://verschickungsheime.de
X-WR-CALDESC:Veranstaltungen für Verschickungsheime
REFRESH-INTERVAL;VALUE=DURATION:PT1H
X-Robots-Tag:noindex
X-PUBLISHED-TTL:PT1H
BEGIN:VTIMEZONE
TZID:Europe/Berlin
BEGIN:DAYLIGHT
TZOFFSETFROM:+0100
TZOFFSETTO:+0200
TZNAME:CEST
DTSTART:20200329T010000
END:DAYLIGHT
BEGIN:STANDARD
TZOFFSETFROM:+0200
TZOFFSETTO:+0100
TZNAME:CET
DTSTART:20201025T010000
END:STANDARD
BEGIN:DAYLIGHT
TZOFFSETFROM:+0100
TZOFFSETTO:+0200
TZNAME:CEST
DTSTART:20210328T010000
END:DAYLIGHT
BEGIN:STANDARD
TZOFFSETFROM:+0200
TZOFFSETTO:+0100
TZNAME:CET
DTSTART:20211031T010000
END:STANDARD
BEGIN:DAYLIGHT
TZOFFSETFROM:+0100
TZOFFSETTO:+0200
TZNAME:CEST
DTSTART:20220327T010000
END:DAYLIGHT
BEGIN:STANDARD
TZOFFSETFROM:+0200
TZOFFSETTO:+0100
TZNAME:CET
DTSTART:20221030T010000
END:STANDARD
END:VTIMEZONE
BEGIN:VEVENT
DTSTART;TZID=Europe/Berlin:20210608T180000
DTEND;TZID=Europe/Berlin:20210608T200000
DTSTAMP:20260423T202919
CREATED:20210513T092715Z
LAST-MODIFIED:20210513T092716Z
UID:10000609-1623175200-1623182400@verschickungsheime.de
SUMMARY:Berliner Aktiven-Schalte
DESCRIPTION:In der Berliner Aktiven-Schalte organisieren und besprechen wir unserer politischen und forschenden Aktivitäten. Es ist für alle offen\, die mittun möchten. In dieser Schalte geht es\, anderes als in der Selbsthilfe-Schalte\, nicht um den Austausch unserer persönlichen Erfahrungen. Link gibt es unter berlin@verschickungsheime.de
URL:https://verschickungsheime.de/event/berliner-aktiven-schalte/
END:VEVENT
BEGIN:VEVENT
DTSTART;TZID=Europe/Berlin:20210608T180000
DTEND;TZID=Europe/Berlin:20210608T200000
DTSTAMP:20260423T202919
CREATED:20210606T201914Z
LAST-MODIFIED:20210607T003715Z
UID:10000527-1623175200-1623182400@verschickungsheime.de
SUMMARY:6. Videotreffen NRW
DESCRIPTION:Liebe Verschickungskinder\,                                                                                                                                                  ich lade alle Betroffenen mit NRW-Relevanz (aus NRW in ein anderes Bundesland\, oder aus einem anderen Bundeslandnach NRW verschickt\, oder keins von beiden\, jedoch aktueller Wohnort in NRW und interessiert) zum 6. Videotreffen am Dienstag\, den 08.06.2021\, 18.00-20.00 Uhr ein. \n\n\n\nTagesordnung:                                                                                                                                                                       \n\n\n\n1. Aktuelles                                                                                                                                                                             \n\n\n\n2. Trauma-Therapie-Therapeuten    Besprechung eines von der Traumatherapeutin Doris Heinrich verfassten Papiers             \n\n\n\n3. Verschiedenes                                                                                                                                                                \n\n\n\nWer den Einladungslink und das Papier nicht per NRW-Verteiler erhalten hat\, kann sich gerne unter detlef.lichtrauter@akv-nrw.de anmelden.                                                                                                                   Ich hoffe auf rege Teilnahme und grüße ganz herzlichDetlef Lichtrauter 
URL:https://verschickungsheime.de/event/9252/
END:VEVENT
END:VCALENDAR