BEGIN:VCALENDAR
VERSION:2.0
PRODID:-//Verschickungsheime - ECPv6.15.20//NONSGML v1.0//EN
CALSCALE:GREGORIAN
METHOD:PUBLISH
X-ORIGINAL-URL:https://verschickungsheime.de
X-WR-CALDESC:Veranstaltungen für Verschickungsheime
REFRESH-INTERVAL;VALUE=DURATION:PT1H
X-Robots-Tag:noindex
X-PUBLISHED-TTL:PT1H
BEGIN:VTIMEZONE
TZID:Europe/Berlin
BEGIN:DAYLIGHT
TZOFFSETFROM:+0100
TZOFFSETTO:+0200
TZNAME:CEST
DTSTART:20200329T010000
END:DAYLIGHT
BEGIN:STANDARD
TZOFFSETFROM:+0200
TZOFFSETTO:+0100
TZNAME:CET
DTSTART:20201025T010000
END:STANDARD
BEGIN:DAYLIGHT
TZOFFSETFROM:+0100
TZOFFSETTO:+0200
TZNAME:CEST
DTSTART:20210328T010000
END:DAYLIGHT
BEGIN:STANDARD
TZOFFSETFROM:+0200
TZOFFSETTO:+0100
TZNAME:CET
DTSTART:20211031T010000
END:STANDARD
BEGIN:DAYLIGHT
TZOFFSETFROM:+0100
TZOFFSETTO:+0200
TZNAME:CEST
DTSTART:20220327T010000
END:DAYLIGHT
BEGIN:STANDARD
TZOFFSETFROM:+0200
TZOFFSETTO:+0100
TZNAME:CET
DTSTART:20221030T010000
END:STANDARD
END:VTIMEZONE
BEGIN:VEVENT
DTSTART;TZID=Europe/Berlin:20210612T110000
DTEND;TZID=Europe/Berlin:20210612T130000
DTSTAMP:20260423T203205
CREATED:20210607T203416Z
LAST-MODIFIED:20210607T203418Z
UID:10000528-1623495600-1623502800@verschickungsheime.de
SUMMARY:Selbsthilfe-Treffen Baden Württemberg
DESCRIPTION:Selbsthilfetreffen 11-13 Uhr             Anmeldung unter: mail@verschickungsheime-bw.de
URL:https://verschickungsheime.de/event/selbsthilfe-treffen-baden-wuerttemberg/
END:VEVENT
BEGIN:VEVENT
DTSTART;TZID=Europe/Berlin:20210612T180000
DTEND;TZID=Europe/Berlin:20210612T200000
DTSTAMP:20260423T203205
CREATED:20210514T082131Z
LAST-MODIFIED:20210514T082411Z
UID:10000521-1623520800-1623528000@verschickungsheime.de
SUMMARY:St. Peter-Ording treffen sich per Videokonferenz
DESCRIPTION:Ehemalige Verschickungskinder nach St. Peter-Ording treffen sich per Videokonferenz.Den Link erhaltet Ihr von der HOV michaela_dinter@yahoo.com 
URL:https://verschickungsheime.de/event/st-peter-ording-treffen-sich-per-videokonferenz/
CATEGORIES:Schleswig-Holstein
END:VEVENT
END:VCALENDAR