BEGIN:VCALENDAR
VERSION:2.0
PRODID:-//Verschickungsheime - ECPv6.15.20//NONSGML v1.0//EN
CALSCALE:GREGORIAN
METHOD:PUBLISH
X-WR-CALNAME:Verschickungsheime
X-ORIGINAL-URL:https://verschickungsheime.de
X-WR-CALDESC:Veranstaltungen für Verschickungsheime
REFRESH-INTERVAL;VALUE=DURATION:PT1H
X-Robots-Tag:noindex
X-PUBLISHED-TTL:PT1H
BEGIN:VTIMEZONE
TZID:Europe/Berlin
BEGIN:DAYLIGHT
TZOFFSETFROM:+0100
TZOFFSETTO:+0200
TZNAME:CEST
DTSTART:20200329T010000
END:DAYLIGHT
BEGIN:STANDARD
TZOFFSETFROM:+0200
TZOFFSETTO:+0100
TZNAME:CET
DTSTART:20201025T010000
END:STANDARD
BEGIN:DAYLIGHT
TZOFFSETFROM:+0100
TZOFFSETTO:+0200
TZNAME:CEST
DTSTART:20210328T010000
END:DAYLIGHT
BEGIN:STANDARD
TZOFFSETFROM:+0200
TZOFFSETTO:+0100
TZNAME:CET
DTSTART:20211031T010000
END:STANDARD
BEGIN:DAYLIGHT
TZOFFSETFROM:+0100
TZOFFSETTO:+0200
TZNAME:CEST
DTSTART:20220327T010000
END:DAYLIGHT
BEGIN:STANDARD
TZOFFSETFROM:+0200
TZOFFSETTO:+0100
TZNAME:CET
DTSTART:20221030T010000
END:STANDARD
END:VTIMEZONE
BEGIN:VEVENT
DTSTART;TZID=Europe/Berlin:20210615T180000
DTEND;TZID=Europe/Berlin:20210615T193000
DTSTAMP:20260423T202631
CREATED:20210605T041636Z
LAST-MODIFIED:20210605T041638Z
UID:10000526-1623780000-1623785400@verschickungsheime.de
SUMMARY:Nächstes Zoom-Treffen Kölner Gruppe
DESCRIPTION:Liebe Verschickungskinder\, \n\n\n\nim Namen der Selbsthilfegruppe in Köln möchten wir euch ganz herzlich zu unserem Zoom-Treffen am 15.06.2021 um 18 Uhr einladen.Alle\, die noch nicht ganz sicher mit den Funktionen von Zoom sind\, treffen sich\, wenn möglich schon um 17:45 Uhr zu einem Technikcheckup\, damit wir später keine Zeit mehr auf technische Probleme verwenden müssen.Alle Verschickungskinder\, die sich für unsere Selbsthilfegruppe interessieren\, also nicht nur Kölner\, sondern auch Verschickungskinder\, die damals von Köln aus verschickt wurden\, und andere Interessierte sind herzlich willkommen.Anmeldung unter : Verschickungskids.Koeln.NRW@gmx.deoder: ute-kur-verschickungskinder-nrw@outlook.de
URL:https://verschickungsheime.de/event/naechstes-zoom-treffen-koelner-gruppe-2/
END:VEVENT
BEGIN:VEVENT
DTSTART;TZID=Europe/Berlin:20210615T180000
DTEND;TZID=Europe/Berlin:20210615T200000
DTSTAMP:20260423T202631
CREATED:20210513T094754Z
LAST-MODIFIED:20210513T094755Z
UID:10000610-1623780000-1623787200@verschickungsheime.de
SUMMARY:Austauschtreffen der Heim- und Heimortverantwortlichen
DESCRIPTION:Hier treffen sich die Heim-und Heimortverantwortlichen um sich auszutauschen und gegenseitig Anregung zu geben. Wenn es für einen Heimort oder ein Heim noch keine Verantwortliche gibt\, können sich interessierte gerne unter buko@verschickungsheime.de melden.
URL:https://verschickungsheime.de/event/austauschtreffen-der-heim-und-heimortverantwortlichen/
END:VEVENT
END:VCALENDAR