BEGIN:VCALENDAR
VERSION:2.0
PRODID:-//Verschickungsheime - ECPv6.15.20//NONSGML v1.0//EN
CALSCALE:GREGORIAN
METHOD:PUBLISH
X-ORIGINAL-URL:https://verschickungsheime.de
X-WR-CALDESC:Veranstaltungen für Verschickungsheime
REFRESH-INTERVAL;VALUE=DURATION:PT1H
X-Robots-Tag:noindex
X-PUBLISHED-TTL:PT1H
BEGIN:VTIMEZONE
TZID:Europe/Berlin
BEGIN:DAYLIGHT
TZOFFSETFROM:+0100
TZOFFSETTO:+0200
TZNAME:CEST
DTSTART:20200329T010000
END:DAYLIGHT
BEGIN:STANDARD
TZOFFSETFROM:+0200
TZOFFSETTO:+0100
TZNAME:CET
DTSTART:20201025T010000
END:STANDARD
BEGIN:DAYLIGHT
TZOFFSETFROM:+0100
TZOFFSETTO:+0200
TZNAME:CEST
DTSTART:20210328T010000
END:DAYLIGHT
BEGIN:STANDARD
TZOFFSETFROM:+0200
TZOFFSETTO:+0100
TZNAME:CET
DTSTART:20211031T010000
END:STANDARD
BEGIN:DAYLIGHT
TZOFFSETFROM:+0100
TZOFFSETTO:+0200
TZNAME:CEST
DTSTART:20220327T010000
END:DAYLIGHT
BEGIN:STANDARD
TZOFFSETFROM:+0200
TZOFFSETTO:+0100
TZNAME:CET
DTSTART:20221030T010000
END:STANDARD
END:VTIMEZONE
BEGIN:VEVENT
DTSTART;TZID=Europe/Berlin:20210706T180000
DTEND;TZID=Europe/Berlin:20210706T190000
DTSTAMP:20260423T191458
CREATED:20210629T063948Z
LAST-MODIFIED:20210701T074540Z
UID:10000622-1625594400-1625598000@verschickungsheime.de
SUMMARY:Berliner Selbsthilfegruppe
DESCRIPTION:Die Berliner Selbsthilfegruppe trifft sich jetzt seit Corona\, jeden 1. Dienstag im Monat per onlineschalte\, ab August 2021 treffen wir uns wieder in Präsenz im Sekis in Berlin Charlottenburg\, mit Anmeldung: buko@verschickungsheime.de\, Präsenztreffen immer am 1. Samstag im Monat um 10 Uhr im Sekis e.V.\, Berlin Charlottenburg\, Bismarkstraße. Die Onlineschalten Berlin bleiben für Berliner Aktive erhalten\, ebenso für alle aus Berlin verschickten Betroffenen. Anmelden unter: berlin@verschickungsheime.de
URL:https://verschickungsheime.de/event/berliner-selbsthilfegruppe-2/
END:VEVENT
END:VCALENDAR