BEGIN:VCALENDAR
VERSION:2.0
PRODID:-//Verschickungsheime - ECPv6.15.20//NONSGML v1.0//EN
CALSCALE:GREGORIAN
METHOD:PUBLISH
X-WR-CALNAME:Verschickungsheime
X-ORIGINAL-URL:https://verschickungsheime.de
X-WR-CALDESC:Veranstaltungen für Verschickungsheime
REFRESH-INTERVAL;VALUE=DURATION:PT1H
X-Robots-Tag:noindex
X-PUBLISHED-TTL:PT1H
BEGIN:VTIMEZONE
TZID:Europe/Berlin
BEGIN:DAYLIGHT
TZOFFSETFROM:+0100
TZOFFSETTO:+0200
TZNAME:CEST
DTSTART:20200329T010000
END:DAYLIGHT
BEGIN:STANDARD
TZOFFSETFROM:+0200
TZOFFSETTO:+0100
TZNAME:CET
DTSTART:20201025T010000
END:STANDARD
BEGIN:DAYLIGHT
TZOFFSETFROM:+0100
TZOFFSETTO:+0200
TZNAME:CEST
DTSTART:20210328T010000
END:DAYLIGHT
BEGIN:STANDARD
TZOFFSETFROM:+0200
TZOFFSETTO:+0100
TZNAME:CET
DTSTART:20211031T010000
END:STANDARD
BEGIN:DAYLIGHT
TZOFFSETFROM:+0100
TZOFFSETTO:+0200
TZNAME:CEST
DTSTART:20220327T010000
END:DAYLIGHT
BEGIN:STANDARD
TZOFFSETFROM:+0200
TZOFFSETTO:+0100
TZNAME:CET
DTSTART:20221030T010000
END:STANDARD
END:VTIMEZONE
BEGIN:VEVENT
DTSTART;TZID=Europe/Berlin:20210825T180000
DTEND;TZID=Europe/Berlin:20210825T200000
DTSTAMP:20260423T175730
CREATED:20210814T211749Z
LAST-MODIFIED:20210815T114701Z
UID:10000633-1629914400-1629921600@verschickungsheime.de
SUMMARY:Videotreffen RLP + Thema: Verschickung und Essverhalten
DESCRIPTION:Videotreffen für Verschickungskinder die in Heimen in Rheinland-Pfalz waren und für alle anderen Interessierten am Thema \n\n\n\nThema:   Wie hat sich die Verschickung auf das spätere Essverhalten ausgewirkt? \n\n\n\nAnmelden unter: verschickung-viktoriastift@posteo.de
URL:https://verschickungsheime.de/event/verschickung-und-essverhalten/
END:VEVENT
END:VCALENDAR