BEGIN:VCALENDAR
VERSION:2.0
PRODID:-//Verschickungsheime - ECPv6.15.20//NONSGML v1.0//EN
CALSCALE:GREGORIAN
METHOD:PUBLISH
X-ORIGINAL-URL:https://verschickungsheime.de
X-WR-CALDESC:Veranstaltungen für Verschickungsheime
REFRESH-INTERVAL;VALUE=DURATION:PT1H
X-Robots-Tag:noindex
X-PUBLISHED-TTL:PT1H
BEGIN:VTIMEZONE
TZID:Europe/Berlin
BEGIN:DAYLIGHT
TZOFFSETFROM:+0100
TZOFFSETTO:+0200
TZNAME:CEST
DTSTART:20200329T010000
END:DAYLIGHT
BEGIN:STANDARD
TZOFFSETFROM:+0200
TZOFFSETTO:+0100
TZNAME:CET
DTSTART:20201025T010000
END:STANDARD
BEGIN:DAYLIGHT
TZOFFSETFROM:+0100
TZOFFSETTO:+0200
TZNAME:CEST
DTSTART:20210328T010000
END:DAYLIGHT
BEGIN:STANDARD
TZOFFSETFROM:+0200
TZOFFSETTO:+0100
TZNAME:CET
DTSTART:20211031T010000
END:STANDARD
BEGIN:DAYLIGHT
TZOFFSETFROM:+0100
TZOFFSETTO:+0200
TZNAME:CEST
DTSTART:20220327T010000
END:DAYLIGHT
BEGIN:STANDARD
TZOFFSETFROM:+0200
TZOFFSETTO:+0100
TZNAME:CET
DTSTART:20221030T010000
END:STANDARD
END:VTIMEZONE
BEGIN:VEVENT
DTSTART;TZID=Europe/Berlin:20210831T180000
DTEND;TZID=Europe/Berlin:20210831T200000
DTSTAMP:20260423T164619
CREATED:20210819T095006Z
LAST-MODIFIED:20210828T171331Z
UID:10000635-1630432800-1630440000@verschickungsheime.de
SUMMARY:Aktivenschalte
DESCRIPTION:Am 31.8.21: Für alle\, die sich aktivieren wollen\, sie können uns kennenlernen in der Aktivenschalte:  Austausch der Landesvereine untereinander und mit den Heimort- und  Landeskoordinatoren und anderer Menschen\, die sich bei uns aktiv beteiligen wollen\, alle sind hier herzlich eingeladen. Anmeldung über: Buko@verschickungsheime.de
URL:https://verschickungsheime.de/event/aktivenschalte/
END:VEVENT
END:VCALENDAR