BEGIN:VCALENDAR
VERSION:2.0
PRODID:-//Verschickungsheime - ECPv6.15.20//NONSGML v1.0//EN
CALSCALE:GREGORIAN
METHOD:PUBLISH
X-ORIGINAL-URL:https://verschickungsheime.de
X-WR-CALDESC:Veranstaltungen für Verschickungsheime
REFRESH-INTERVAL;VALUE=DURATION:PT1H
X-Robots-Tag:noindex
X-PUBLISHED-TTL:PT1H
BEGIN:VTIMEZONE
TZID:Europe/Berlin
BEGIN:DAYLIGHT
TZOFFSETFROM:+0100
TZOFFSETTO:+0200
TZNAME:CEST
DTSTART:20200329T010000
END:DAYLIGHT
BEGIN:STANDARD
TZOFFSETFROM:+0200
TZOFFSETTO:+0100
TZNAME:CET
DTSTART:20201025T010000
END:STANDARD
BEGIN:DAYLIGHT
TZOFFSETFROM:+0100
TZOFFSETTO:+0200
TZNAME:CEST
DTSTART:20210328T010000
END:DAYLIGHT
BEGIN:STANDARD
TZOFFSETFROM:+0200
TZOFFSETTO:+0100
TZNAME:CET
DTSTART:20211031T010000
END:STANDARD
BEGIN:DAYLIGHT
TZOFFSETFROM:+0100
TZOFFSETTO:+0200
TZNAME:CEST
DTSTART:20220327T010000
END:DAYLIGHT
BEGIN:STANDARD
TZOFFSETFROM:+0200
TZOFFSETTO:+0100
TZNAME:CET
DTSTART:20221030T010000
END:STANDARD
END:VTIMEZONE
BEGIN:VEVENT
DTSTART;TZID=Europe/Berlin:20210910T180000
DTEND;TZID=Europe/Berlin:20210910T180000
DTSTAMP:20260423T164803
CREATED:20210701T080006Z
LAST-MODIFIED:20210805T214322Z
UID:10000628-1631296800-1631296800@verschickungsheime.de
SUMMARY:Rätsel um das Haus Schöneberg
DESCRIPTION:Einladender: Der Stadtrat von Tempelhof-Schöneberg\, Oliver Schworck: Aufklärung des Geschehens um die Kinderheilstätte Haus Schöneberg. Der Stadtrat hat den Verein AEKV e.V. und die Berliner Aktiven- und Selbsthilfegruppe Verschickungskinder zu einer Podiumsdiskussion geladen. Thema: Rätsel um das Haus Schöneberg- Verschickungen aus Berlin. Die Veranstaltung ist im John-F.-Kennedy Saal im Rathaus Schöneberg. Eingeladen zu Vorträgen sind u.a. Frau Prof. Christiane Dienel\, Anja Röhl vom Forschungsverein und Valerie Lenck von der Initiative Verschickungskinder.  Es wird um Fragen zum „Haus Schöneberg“ gehen\, einem Verschickungsheim auf der Insel Wyk auf Föhr. Erste Nachforschungen zu diesem Haus ergaben\, dass dorthin\, aus Berlin zuerst TBC- Kranke\, dann Verschickungskinder\, dann Kinder aus der Kinder- und Jugendpsychiatrie und schließlich allgemein als „ Behinderte“ titulierte Kinder hin„verschickt“ wurden.  Zum Teil wurden aus geplanten 6 Wochen mehrere Jahre. Touristen beschwerten sich\, dass Kinder auf der Fähre gefesselt transportiert wurden. Wir fordern die Aktensichtung und lückenlose Aufarbeitung dieses Geschehens. Es werden auch Zeuginnen aus diesem Heim zu Wort kommen.
URL:https://verschickungsheime.de/event/raetsel-um-das-haus-schoeneberg/
END:VEVENT
END:VCALENDAR