BEGIN:VCALENDAR
VERSION:2.0
PRODID:-//Verschickungsheime - ECPv6.15.20//NONSGML v1.0//EN
CALSCALE:GREGORIAN
METHOD:PUBLISH
X-WR-CALNAME:Verschickungsheime
X-ORIGINAL-URL:https://verschickungsheime.de
X-WR-CALDESC:Veranstaltungen für Verschickungsheime
REFRESH-INTERVAL;VALUE=DURATION:PT1H
X-Robots-Tag:noindex
X-PUBLISHED-TTL:PT1H
BEGIN:VTIMEZONE
TZID:Europe/Berlin
BEGIN:DAYLIGHT
TZOFFSETFROM:+0100
TZOFFSETTO:+0200
TZNAME:CEST
DTSTART:20200329T010000
END:DAYLIGHT
BEGIN:STANDARD
TZOFFSETFROM:+0200
TZOFFSETTO:+0100
TZNAME:CET
DTSTART:20201025T010000
END:STANDARD
BEGIN:DAYLIGHT
TZOFFSETFROM:+0100
TZOFFSETTO:+0200
TZNAME:CEST
DTSTART:20210328T010000
END:DAYLIGHT
BEGIN:STANDARD
TZOFFSETFROM:+0200
TZOFFSETTO:+0100
TZNAME:CET
DTSTART:20211031T010000
END:STANDARD
BEGIN:DAYLIGHT
TZOFFSETFROM:+0100
TZOFFSETTO:+0200
TZNAME:CEST
DTSTART:20220327T010000
END:DAYLIGHT
BEGIN:STANDARD
TZOFFSETFROM:+0200
TZOFFSETTO:+0100
TZNAME:CET
DTSTART:20221030T010000
END:STANDARD
END:VTIMEZONE
BEGIN:VEVENT
DTSTART;TZID=Europe/Berlin:20210923T190000
DTEND;TZID=Europe/Berlin:20210923T210000
DTSTAMP:20260423T164353
CREATED:20210805T214614Z
LAST-MODIFIED:20210805T230921Z
UID:10000539-1632423600-1632430800@verschickungsheime.de
SUMMARY:Geldern                                           Buchvorstellung: Das Elend der Verschickungskinder
DESCRIPTION:Buchvorstellung: Das Elend der Verschickungskinder von Anja Röhl\, UHRZEIT: 19.00–21.00 Uhr ORT: Volkshochschule Geldern\, Raum 106\, Kapuzinerstr. 34\, Geldern: Programm und Anmeldung hier.
URL:https://verschickungsheime.de/event/geldern-buchvorstellung-das-elend-der-verschickunsgkinder/
END:VEVENT
END:VCALENDAR