BEGIN:VCALENDAR
VERSION:2.0
PRODID:-//Verschickungsheime - ECPv6.15.20//NONSGML v1.0//EN
CALSCALE:GREGORIAN
METHOD:PUBLISH
X-ORIGINAL-URL:https://verschickungsheime.de
X-WR-CALDESC:Veranstaltungen für Verschickungsheime
REFRESH-INTERVAL;VALUE=DURATION:PT1H
X-Robots-Tag:noindex
X-PUBLISHED-TTL:PT1H
BEGIN:VTIMEZONE
TZID:Europe/Berlin
BEGIN:DAYLIGHT
TZOFFSETFROM:+0100
TZOFFSETTO:+0200
TZNAME:CEST
DTSTART:20200329T010000
END:DAYLIGHT
BEGIN:STANDARD
TZOFFSETFROM:+0200
TZOFFSETTO:+0100
TZNAME:CET
DTSTART:20201025T010000
END:STANDARD
BEGIN:DAYLIGHT
TZOFFSETFROM:+0100
TZOFFSETTO:+0200
TZNAME:CEST
DTSTART:20210328T010000
END:DAYLIGHT
BEGIN:STANDARD
TZOFFSETFROM:+0200
TZOFFSETTO:+0100
TZNAME:CET
DTSTART:20211031T010000
END:STANDARD
BEGIN:DAYLIGHT
TZOFFSETFROM:+0100
TZOFFSETTO:+0200
TZNAME:CEST
DTSTART:20220327T010000
END:DAYLIGHT
BEGIN:STANDARD
TZOFFSETFROM:+0200
TZOFFSETTO:+0100
TZNAME:CET
DTSTART:20221030T010000
END:STANDARD
END:VTIMEZONE
BEGIN:VEVENT
DTSTART;TZID=Europe/Berlin:20210928T180000
DTEND;TZID=Europe/Berlin:20210928T200000
DTSTAMP:20260423T153052
CREATED:20210915T075925Z
LAST-MODIFIED:20210915T080426Z
UID:10000643-1632852000-1632859200@verschickungsheime.de
SUMMARY:Bundesweite Aktivenschalte
DESCRIPTION:Jeden letzten Dienstag im Monat laden wir zur bundesweiten Aktivenschalte ein. Eingeladen sind alle HOKs\, alle LKs und alle sonstigen Menschen\, die sich bei uns aktiv politisch einsetzen wollen. Die Aktivenschalte dient der Koordinierung von Bundesaktivitäten\, dem Gedanken- und Informationsaustausch. Sie ist offen für alle\, anmelden über Buko@verschickungsheime.de
URL:https://verschickungsheime.de/event/bundesweite-aktivenschalte-2/
END:VEVENT
END:VCALENDAR