BEGIN:VCALENDAR
VERSION:2.0
PRODID:-//Verschickungsheime - ECPv6.15.20//NONSGML v1.0//EN
CALSCALE:GREGORIAN
METHOD:PUBLISH
X-WR-CALNAME:Verschickungsheime
X-ORIGINAL-URL:https://verschickungsheime.de
X-WR-CALDESC:Veranstaltungen für Verschickungsheime
REFRESH-INTERVAL;VALUE=DURATION:PT1H
X-Robots-Tag:noindex
X-PUBLISHED-TTL:PT1H
BEGIN:VTIMEZONE
TZID:Europe/Berlin
BEGIN:DAYLIGHT
TZOFFSETFROM:+0100
TZOFFSETTO:+0200
TZNAME:CEST
DTSTART:20200329T010000
END:DAYLIGHT
BEGIN:STANDARD
TZOFFSETFROM:+0200
TZOFFSETTO:+0100
TZNAME:CET
DTSTART:20201025T010000
END:STANDARD
BEGIN:DAYLIGHT
TZOFFSETFROM:+0100
TZOFFSETTO:+0200
TZNAME:CEST
DTSTART:20210328T010000
END:DAYLIGHT
BEGIN:STANDARD
TZOFFSETFROM:+0200
TZOFFSETTO:+0100
TZNAME:CET
DTSTART:20211031T010000
END:STANDARD
BEGIN:DAYLIGHT
TZOFFSETFROM:+0100
TZOFFSETTO:+0200
TZNAME:CEST
DTSTART:20220327T010000
END:DAYLIGHT
BEGIN:STANDARD
TZOFFSETFROM:+0200
TZOFFSETTO:+0100
TZNAME:CET
DTSTART:20221030T010000
END:STANDARD
END:VTIMEZONE
BEGIN:VEVENT
DTSTART;TZID=Europe/Berlin:20211026T180000
DTEND;TZID=Europe/Berlin:20211026T200000
DTSTAMP:20260423T152831
CREATED:20211020T063213Z
LAST-MODIFIED:20211020T064108Z
UID:10000670-1635271200-1635278400@verschickungsheime.de
SUMMARY:Bundes-Aktivenschalte
DESCRIPTION:Eingeladen sind alle Landeskoordinatoren\, alle Heimortkoordinatoren (LKs\, HOKs)\, und alle\, die sich aktiv daran beteiligen wollen\, die Aufklärung über Verschickungen in den Medien und in der Politik voranzubringen. Das Treffen findet als Onlineschalte statt\, über diesen Link: https://nexusinstitut.zoom.us/j/95181195783?pwd=aC85WFhFeWZBQVAyRGdHZUFrbmZQUT09Tagesordnung: 1) Letzte Fragen zu Borkum \n\n\n\n2) Fragen zum Forum\, mit Jan\, wie können wir die Schwierigkeiten des Forums minimieren? \n\n\n\n3) Anfragen und Mitteilungen zur öffentlichen MV von AEVK e.V. auf dem Borkumkongress mit Gästen \n\n\n\n4) Situation in den Ländern und Heimorten\, besondere Ideen\, Vorhaben und Anliegen
URL:https://verschickungsheime.de/event/bundes-aktivenschalte/
END:VEVENT
END:VCALENDAR