BEGIN:VCALENDAR
VERSION:2.0
PRODID:-//Verschickungsheime - ECPv6.15.20//NONSGML v1.0//EN
CALSCALE:GREGORIAN
METHOD:PUBLISH
X-ORIGINAL-URL:https://verschickungsheime.de
X-WR-CALDESC:Veranstaltungen für Verschickungsheime
REFRESH-INTERVAL;VALUE=DURATION:PT1H
X-Robots-Tag:noindex
X-PUBLISHED-TTL:PT1H
BEGIN:VTIMEZONE
TZID:Europe/Berlin
BEGIN:DAYLIGHT
TZOFFSETFROM:+0100
TZOFFSETTO:+0200
TZNAME:CEST
DTSTART:20200329T010000
END:DAYLIGHT
BEGIN:STANDARD
TZOFFSETFROM:+0200
TZOFFSETTO:+0100
TZNAME:CET
DTSTART:20201025T010000
END:STANDARD
BEGIN:DAYLIGHT
TZOFFSETFROM:+0100
TZOFFSETTO:+0200
TZNAME:CEST
DTSTART:20210328T010000
END:DAYLIGHT
BEGIN:STANDARD
TZOFFSETFROM:+0200
TZOFFSETTO:+0100
TZNAME:CET
DTSTART:20211031T010000
END:STANDARD
BEGIN:DAYLIGHT
TZOFFSETFROM:+0100
TZOFFSETTO:+0200
TZNAME:CEST
DTSTART:20220327T010000
END:DAYLIGHT
BEGIN:STANDARD
TZOFFSETFROM:+0200
TZOFFSETTO:+0100
TZNAME:CET
DTSTART:20221030T010000
END:STANDARD
END:VTIMEZONE
BEGIN:VEVENT
DTSTART;TZID=Europe/Berlin:20211028T180000
DTEND;TZID=Europe/Berlin:20211028T200000
DTSTAMP:20260423T152952
CREATED:20211023T142415Z
LAST-MODIFIED:20211026T073842Z
UID:10000675-1635444000-1635451200@verschickungsheime.de
SUMMARY:Videokonferenz St.Peter-Ording-Gruppe
DESCRIPTION:Einladung für Neue zur Videokonferenz am 28.10.2021 um 18:00 Uhr: Die St. Peter-Ording-Gruppe arbeitet an der gesellschaftlichen und politischen Aufarbeitung unseres Themas\, Michaela und Claudia laden Dich herzlich ein\, an einer Videokonferenz für neue Interessierte dabei zu sein. Sie schreiben: „Wenn Du nach St. Peter-Ording (SPO) verschickt worden bist und an dieser Videokonferenz am Donnerstag\, den 28.10.2021 um 18:00 Uhr teilnehmen möchtest\, melde Dich bitte bis spätestens 27.10.2021\, dann erhältst Du den Link zur Einwahl von Claudia cl.johansson.hok.spo@gmx.de“
URL:https://verschickungsheime.de/event/videokonferenz-st-peter-ording-gruppe/
END:VEVENT
BEGIN:VEVENT
DTSTART;TZID=Europe/Berlin:20211028T190000
DTEND;TZID=Europe/Berlin:20211028T213000
DTSTAMP:20260423T152952
CREATED:20211006T091208Z
LAST-MODIFIED:20211006T092854Z
UID:10000667-1635447600-1635456600@verschickungsheime.de
SUMMARY:Buchvorstellung: Heimweh - Verschickungskinder erzählen\, in Sprockhövel/Haßlinghausen
DESCRIPTION:Anja Röhl liest aus ihrem neuen Buch: Heimweh – Verschickungskinder erzählen\, in der Stadtbücherei Sprockhövel\, Gevelsberger Str. 13\, 45549 Sprockhövel (der Stadtteil heißt Haßlinghausen\, deswegen Stadtbücherei Haßlinghausen. Info hier. Anzumelden bei: arnold@sprockhoevel.d
URL:https://verschickungsheime.de/event/buchvorstellung-heimweh-verschickungskinder-erzaehlen-in-sprockhoevel-hasslinghausen/
END:VEVENT
END:VCALENDAR