BEGIN:VCALENDAR
VERSION:2.0
PRODID:-//Verschickungsheime - ECPv6.15.20//NONSGML v1.0//EN
CALSCALE:GREGORIAN
METHOD:PUBLISH
X-WR-CALNAME:Verschickungsheime
X-ORIGINAL-URL:https://verschickungsheime.de
X-WR-CALDESC:Veranstaltungen für Verschickungsheime
REFRESH-INTERVAL;VALUE=DURATION:PT1H
X-Robots-Tag:noindex
X-PUBLISHED-TTL:PT1H
BEGIN:VTIMEZONE
TZID:Europe/Berlin
BEGIN:DAYLIGHT
TZOFFSETFROM:+0100
TZOFFSETTO:+0200
TZNAME:CEST
DTSTART:20200329T010000
END:DAYLIGHT
BEGIN:STANDARD
TZOFFSETFROM:+0200
TZOFFSETTO:+0100
TZNAME:CET
DTSTART:20201025T010000
END:STANDARD
BEGIN:DAYLIGHT
TZOFFSETFROM:+0100
TZOFFSETTO:+0200
TZNAME:CEST
DTSTART:20210328T010000
END:DAYLIGHT
BEGIN:STANDARD
TZOFFSETFROM:+0200
TZOFFSETTO:+0100
TZNAME:CET
DTSTART:20211031T010000
END:STANDARD
BEGIN:DAYLIGHT
TZOFFSETFROM:+0100
TZOFFSETTO:+0200
TZNAME:CEST
DTSTART:20220327T010000
END:DAYLIGHT
BEGIN:STANDARD
TZOFFSETFROM:+0200
TZOFFSETTO:+0100
TZNAME:CET
DTSTART:20221030T010000
END:STANDARD
END:VTIMEZONE
BEGIN:VEVENT
DTSTART;TZID=Europe/Berlin:20211103T110500
DTEND;TZID=Europe/Berlin:20211103T110500
DTSTAMP:20260423T141847
CREATED:20211029T095231Z
LAST-MODIFIED:20211029T095324Z
UID:10000677-1635937500-1635937500@verschickungsheime.de
SUMMARY:Bayern 2 Radio - Rundfunk - Hörfeature
DESCRIPTION:Am 3.11. läuft im Bayern 2 Radio\, im Notizbuch\, um 11:05 Uhr ein ausführliches Interview mit einer unserer Verschickungsheim-Betroffenen (HOK) aus dem Kloster Wessobrunn\, zum Thema Verschickung. Weiterleiten\, anhören\, empfehlen\, danke!
URL:https://verschickungsheime.de/event/bayern-2-radio-rundfunk-hoerfeature/
END:VEVENT
BEGIN:VEVENT
DTSTART;TZID=Europe/Berlin:20211103T193000
DTEND;TZID=Europe/Berlin:20211103T210000
DTSTAMP:20260423T141847
CREATED:20210916T120104Z
LAST-MODIFIED:20211029T071658Z
UID:10000644-1635967800-1635973200@verschickungsheime.de
SUMMARY:Kreuzberger Buchpremiere: Heimweh-Verschickungskinder erzählen
DESCRIPTION:Lesung aus dem neuen Buch von Anja Röhl: HEIMWEH – Verschickungskinder erzählen\, mit 23 ausführlichen Porträts\, wird in einem Café-Gespräch in der Kreuzberger Regenbogenfabrik vorgestellt. Diese Veranstaltung wird gestreamt\, man kann also von zuhause aus dabei sein: https://www.youtube.com/watch?v=mnq8aIlDmfk
URL:https://verschickungsheime.de/event/kreuzberger-buchpremiere-heimweh-verschickungskinder-erzaehlen/
ATTACH;FMTTYPE=image/jpeg:https://verschickungsheime.de/wp-content/uploads/2021/10/20211103-Cafe-Gespraech-mit-Anja-Roehl-zum-Buch-Heimweh_netz.jpg
END:VEVENT
BEGIN:VEVENT
DTSTART;TZID=Europe/Berlin:20211103T211500
DTEND;TZID=Europe/Berlin:20211103T214500
DTSTAMP:20260423T141847
CREATED:20211020T194254Z
LAST-MODIFIED:20211102T134200Z
UID:10000672-1635974100-1635975900@verschickungsheime.de
SUMMARY:Alptraum in bayrischen Kinderheimen - Filmvorausschau mit link
DESCRIPTION:Ausführliche Doku zu Kinderverschickungen im Bayrischen Rundfunk\, TV\, 21 Uhr\, zu bester Sendezeit\, mit beeindruckenden Zeitzeugen- Berichten\, bitte weitersagen\, verbreiten\, anschauen!  \n\n\n\nhttps://www.br.de/br-fernsehen/sendungen/kontrovers/index.html \n\n\n\nKontrovers – Die Story:  Sechs Wochen Angst: der Albtraum in bayerischen Kinderkurheimen \n\n\n\nKinderkuren für kränkliche Kinder – diese Idee boomte ab den 50er Jahren. Als sogenannte Verschickungskinder wurden bis in die 80er Jahre hinein selbst Kleinkinder über Wochen hinweg von ihren Familien getrennt und zur Kur geschickt. Schätzungen gehen von acht Millionen Kindern aus\, die in Deutschland verschickt worden sind. Für die einen eine unbeschwerte Zeit – für viele andere: sechs Wochen Angst. Sie erlebten in den Heimen Bestrafung\, Demütigungen und sogar Missbrauch. Und sie kämpfen bis heute mit den Folgen der Kuren\, die sie als Kinder aus ganz Deutschland in Bayern verbracht haben. \n\n\n\n \n\n\n\nDie Betroffenen\, die sich in München politisch aktiv für die Aufarbeitung unseres Themas einsetzen wollen\, können sich gern bei den Landeskoordinatorinnen Ingrid und Manuela melden\, Letztere ist Spezialistin in Archivarbeit. Wer in Bayern aktiv werden will\, meldet sich bei: bayern@verschickungsheime.de\, wir freuen uns!
URL:https://verschickungsheime.de/event/br-filmdokumentation/
END:VEVENT
END:VCALENDAR