BEGIN:VCALENDAR
VERSION:2.0
PRODID:-//Verschickungsheime - ECPv6.15.20//NONSGML v1.0//EN
CALSCALE:GREGORIAN
METHOD:PUBLISH
X-WR-CALNAME:Verschickungsheime
X-ORIGINAL-URL:https://verschickungsheime.de
X-WR-CALDESC:Veranstaltungen für Verschickungsheime
REFRESH-INTERVAL;VALUE=DURATION:PT1H
X-Robots-Tag:noindex
X-PUBLISHED-TTL:PT1H
BEGIN:VTIMEZONE
TZID:Europe/Berlin
BEGIN:DAYLIGHT
TZOFFSETFROM:+0100
TZOFFSETTO:+0200
TZNAME:CEST
DTSTART:20200329T010000
END:DAYLIGHT
BEGIN:STANDARD
TZOFFSETFROM:+0200
TZOFFSETTO:+0100
TZNAME:CET
DTSTART:20201025T010000
END:STANDARD
BEGIN:DAYLIGHT
TZOFFSETFROM:+0100
TZOFFSETTO:+0200
TZNAME:CEST
DTSTART:20210328T010000
END:DAYLIGHT
BEGIN:STANDARD
TZOFFSETFROM:+0200
TZOFFSETTO:+0100
TZNAME:CET
DTSTART:20211031T010000
END:STANDARD
BEGIN:DAYLIGHT
TZOFFSETFROM:+0100
TZOFFSETTO:+0200
TZNAME:CEST
DTSTART:20220327T010000
END:DAYLIGHT
BEGIN:STANDARD
TZOFFSETFROM:+0200
TZOFFSETTO:+0100
TZNAME:CET
DTSTART:20221030T010000
END:STANDARD
END:VTIMEZONE
BEGIN:VEVENT
DTSTART;TZID=Europe/Berlin:20211215T180000
DTEND;TZID=Europe/Berlin:20211215T200000
DTSTAMP:20260423T130250
CREATED:20211124T203604Z
LAST-MODIFIED:20211124T203607Z
UID:10000573-1639591200-1639598400@verschickungsheime.de
SUMMARY:Videotreffen Rheinland-Pfalz
DESCRIPTION:Thema:  Das innere Kind. \n\n\n\nAnmelden unter: verschickung-viktoriastift@posteo.de \n\n\n\n\n\nFür alle\, die heute in Rheinland-Pfalz wohnen\, von dort aus verschickt oder in ein Heim in RLP verschickt wurden\, wir arbeiten thematisch und freuen uns\, wenn weitere Betroffene dazukommen\, Grüße\, Birgit und Stefan
URL:https://verschickungsheime.de/event/videotreffen-rheinland-pfalz/
END:VEVENT
END:VCALENDAR