BEGIN:VCALENDAR
VERSION:2.0
PRODID:-//Verschickungsheime - ECPv6.15.20//NONSGML v1.0//EN
CALSCALE:GREGORIAN
METHOD:PUBLISH
X-ORIGINAL-URL:https://verschickungsheime.de
X-WR-CALDESC:Veranstaltungen für Verschickungsheime
REFRESH-INTERVAL;VALUE=DURATION:PT1H
X-Robots-Tag:noindex
X-PUBLISHED-TTL:PT1H
BEGIN:VTIMEZONE
TZID:Europe/Berlin
BEGIN:DAYLIGHT
TZOFFSETFROM:+0100
TZOFFSETTO:+0200
TZNAME:CEST
DTSTART:20210328T010000
END:DAYLIGHT
BEGIN:STANDARD
TZOFFSETFROM:+0200
TZOFFSETTO:+0100
TZNAME:CET
DTSTART:20211031T010000
END:STANDARD
BEGIN:DAYLIGHT
TZOFFSETFROM:+0100
TZOFFSETTO:+0200
TZNAME:CEST
DTSTART:20220327T010000
END:DAYLIGHT
BEGIN:STANDARD
TZOFFSETFROM:+0200
TZOFFSETTO:+0100
TZNAME:CET
DTSTART:20221030T010000
END:STANDARD
BEGIN:DAYLIGHT
TZOFFSETFROM:+0100
TZOFFSETTO:+0200
TZNAME:CEST
DTSTART:20230326T010000
END:DAYLIGHT
BEGIN:STANDARD
TZOFFSETFROM:+0200
TZOFFSETTO:+0100
TZNAME:CET
DTSTART:20231029T010000
END:STANDARD
END:VTIMEZONE
BEGIN:VEVENT
DTSTART;TZID=Europe/Berlin:20220106T180000
DTEND;TZID=Europe/Berlin:20220106T200000
DTSTAMP:20260423T120132
CREATED:20211227T092624Z
LAST-MODIFIED:20211227T100624Z
UID:10000697-1641492000-1641499200@verschickungsheime.de
SUMMARY:HOK/HK Video-Konferenz Schleswig-Holstein
DESCRIPTION:Landeskoordination Schleswig-Holstein lädt alle Heimortkoordinator*innen S-H und Heimkoordinator*innen S-H am Donnerstag\, den 06.01.2022 um 18:00 Uhr zu einer Videokonferenz ein: Helga und Michaela laden alle Heimortkoordinator*innen und Heimkoordinator*innen von Schleswig-Holstein\, die Interesse haben\, ein. Wir möchten uns mit Euch in einer Videokonferenz am Donnerstag\, den 06.01.2022 um 18:00 Uhr austauschen. Wenn Du teilnehmen möchtest\, melde Dich bitte bei michaela_dinter@yahoo.com
URL:https://verschickungsheime.de/event/hok-hk-video-konferenz-schleswig-holstein/
END:VEVENT
END:VCALENDAR