BEGIN:VCALENDAR
VERSION:2.0
PRODID:-//Verschickungsheime - ECPv6.15.20//NONSGML v1.0//EN
CALSCALE:GREGORIAN
METHOD:PUBLISH
X-WR-CALNAME:Verschickungsheime
X-ORIGINAL-URL:https://verschickungsheime.de
X-WR-CALDESC:Veranstaltungen für Verschickungsheime
REFRESH-INTERVAL;VALUE=DURATION:PT1H
X-Robots-Tag:noindex
X-PUBLISHED-TTL:PT1H
BEGIN:VTIMEZONE
TZID:Europe/Berlin
BEGIN:DAYLIGHT
TZOFFSETFROM:+0100
TZOFFSETTO:+0200
TZNAME:CEST
DTSTART:20210328T010000
END:DAYLIGHT
BEGIN:STANDARD
TZOFFSETFROM:+0200
TZOFFSETTO:+0100
TZNAME:CET
DTSTART:20211031T010000
END:STANDARD
BEGIN:DAYLIGHT
TZOFFSETFROM:+0100
TZOFFSETTO:+0200
TZNAME:CEST
DTSTART:20220327T010000
END:DAYLIGHT
BEGIN:STANDARD
TZOFFSETFROM:+0200
TZOFFSETTO:+0100
TZNAME:CET
DTSTART:20221030T010000
END:STANDARD
BEGIN:DAYLIGHT
TZOFFSETFROM:+0100
TZOFFSETTO:+0200
TZNAME:CEST
DTSTART:20230326T010000
END:DAYLIGHT
BEGIN:STANDARD
TZOFFSETFROM:+0200
TZOFFSETTO:+0100
TZNAME:CET
DTSTART:20231029T010000
END:STANDARD
END:VTIMEZONE
BEGIN:VEVENT
DTSTART;TZID=Europe/Berlin:20220120T080000
DTEND;TZID=Europe/Berlin:20220120T170000
DTSTAMP:20260423T115839
CREATED:20220120T105626Z
LAST-MODIFIED:20220120T105629Z
UID:10000709-1642665600-1642698000@verschickungsheime.de
SUMMARY:
DESCRIPTION:
URL:https://verschickungsheime.de/event/12046/
END:VEVENT
BEGIN:VEVENT
DTSTART;TZID=Europe/Berlin:20220120T193000
DTEND;TZID=Europe/Berlin:20220120T210000
DTSTAMP:20260423T115839
CREATED:20211227T133744Z
LAST-MODIFIED:20211227T133746Z
UID:10000700-1642707000-1642712400@verschickungsheime.de
SUMMARY:AKV-BW-Orga-Treffen - online
DESCRIPTION:Online AKV-BW e.V. ORGA-Treffen\, anmelden unter: mail@verschickungsheime-bw.de
URL:https://verschickungsheime.de/event/akv-bw-orga-treffen-online/
END:VEVENT
END:VCALENDAR