BEGIN:VCALENDAR
VERSION:2.0
PRODID:-//Verschickungsheime - ECPv6.15.20//NONSGML v1.0//EN
CALSCALE:GREGORIAN
METHOD:PUBLISH
X-ORIGINAL-URL:https://verschickungsheime.de
X-WR-CALDESC:Veranstaltungen für Verschickungsheime
REFRESH-INTERVAL;VALUE=DURATION:PT1H
X-Robots-Tag:noindex
X-PUBLISHED-TTL:PT1H
BEGIN:VTIMEZONE
TZID:Europe/Berlin
BEGIN:DAYLIGHT
TZOFFSETFROM:+0100
TZOFFSETTO:+0200
TZNAME:CEST
DTSTART:20210328T010000
END:DAYLIGHT
BEGIN:STANDARD
TZOFFSETFROM:+0200
TZOFFSETTO:+0100
TZNAME:CET
DTSTART:20211031T010000
END:STANDARD
BEGIN:DAYLIGHT
TZOFFSETFROM:+0100
TZOFFSETTO:+0200
TZNAME:CEST
DTSTART:20220327T010000
END:DAYLIGHT
BEGIN:STANDARD
TZOFFSETFROM:+0200
TZOFFSETTO:+0100
TZNAME:CET
DTSTART:20221030T010000
END:STANDARD
BEGIN:DAYLIGHT
TZOFFSETFROM:+0100
TZOFFSETTO:+0200
TZNAME:CEST
DTSTART:20230326T010000
END:DAYLIGHT
BEGIN:STANDARD
TZOFFSETFROM:+0200
TZOFFSETTO:+0100
TZNAME:CET
DTSTART:20231029T010000
END:STANDARD
END:VTIMEZONE
BEGIN:VEVENT
DTSTART;TZID=Europe/Berlin:20220125T180000
DTEND;TZID=Europe/Berlin:20220125T200000
DTSTAMP:20260423T120224
CREATED:20211227T120319Z
LAST-MODIFIED:20211227T120323Z
UID:10000698-1643133600-1643140800@verschickungsheime.de
SUMMARY:Bundesweite Aktiven-Onlineschalte
DESCRIPTION:Wir laden herzlich alle AKTIVEN aus Landesgruppen\, Heimortgruppen und Selbsthilfegruppen zu unserem monatlichen Aktiventreff ein\, das immer am letzten Dienstag im Monat ist\, hier könnt Ihr euch austauschen\, hier besprechen wir neueste Entwicklungen\, Ideen und Pläne in allen Gruppen\, anmelden dazu unter: buko@verschickungsheime.de
URL:https://verschickungsheime.de/event/bundesweite-aktiven-onlineschalte/
END:VEVENT
END:VCALENDAR