BEGIN:VCALENDAR
VERSION:2.0
PRODID:-//Verschickungsheime - ECPv6.15.20//NONSGML v1.0//EN
CALSCALE:GREGORIAN
METHOD:PUBLISH
X-ORIGINAL-URL:https://verschickungsheime.de
X-WR-CALDESC:Veranstaltungen für Verschickungsheime
REFRESH-INTERVAL;VALUE=DURATION:PT1H
X-Robots-Tag:noindex
X-PUBLISHED-TTL:PT1H
BEGIN:VTIMEZONE
TZID:Europe/Berlin
BEGIN:DAYLIGHT
TZOFFSETFROM:+0100
TZOFFSETTO:+0200
TZNAME:CEST
DTSTART:20210328T010000
END:DAYLIGHT
BEGIN:STANDARD
TZOFFSETFROM:+0200
TZOFFSETTO:+0100
TZNAME:CET
DTSTART:20211031T010000
END:STANDARD
BEGIN:DAYLIGHT
TZOFFSETFROM:+0100
TZOFFSETTO:+0200
TZNAME:CEST
DTSTART:20220327T010000
END:DAYLIGHT
BEGIN:STANDARD
TZOFFSETFROM:+0200
TZOFFSETTO:+0100
TZNAME:CET
DTSTART:20221030T010000
END:STANDARD
BEGIN:DAYLIGHT
TZOFFSETFROM:+0100
TZOFFSETTO:+0200
TZNAME:CEST
DTSTART:20230326T010000
END:DAYLIGHT
BEGIN:STANDARD
TZOFFSETFROM:+0200
TZOFFSETTO:+0100
TZNAME:CET
DTSTART:20231029T010000
END:STANDARD
END:VTIMEZONE
BEGIN:VEVENT
DTSTART;TZID=Europe/Berlin:20220212T110000
DTEND;TZID=Europe/Berlin:20220212T140000
DTSTAMP:20260423T105005
CREATED:20220131T090416Z
LAST-MODIFIED:20220131T090420Z
UID:10000715-1644663600-1644674400@verschickungsheime.de
SUMMARY:Selbsthilfe Baden-Württemberg Präsenz-Veranstaltung im KISS Stuttgart
DESCRIPTION:Die Selbsthilfe Baden-Württemberg lädt zur Präsenz-Veranstaltung im KISS Stuttgart\, in die Tübinger Str. 15 – Gebäude Yeanshalle – Seiteneingang 4. Stock\, am Samstag\, 12. Februar 2022\, von 11:00 bis 14:00 Uhr ein. Coronabedingt können an unseren Selbsthilfetreffen in Präsenz momentan leider nur maximal 10 Personen pro Termin teilnehmen. Bitte meldet euch unter mail@verschickungsheime-bw.de an. Wenn ihr KEINE Antwort bekommt\, seid ihr dabei. Heike und Helmut werden das Treffen moderieren.
URL:https://verschickungsheime.de/event/selbsthilfe-baden-wuerttemberg-praesenz-veranstaltung-im-kiss-stuttgart/
END:VEVENT
END:VCALENDAR