BEGIN:VCALENDAR
VERSION:2.0
PRODID:-//Verschickungsheime - ECPv6.15.20//NONSGML v1.0//EN
CALSCALE:GREGORIAN
METHOD:PUBLISH
X-ORIGINAL-URL:https://verschickungsheime.de
X-WR-CALDESC:Veranstaltungen für Verschickungsheime
REFRESH-INTERVAL;VALUE=DURATION:PT1H
X-Robots-Tag:noindex
X-PUBLISHED-TTL:PT1H
BEGIN:VTIMEZONE
TZID:Europe/Berlin
BEGIN:DAYLIGHT
TZOFFSETFROM:+0100
TZOFFSETTO:+0200
TZNAME:CEST
DTSTART:20210328T010000
END:DAYLIGHT
BEGIN:STANDARD
TZOFFSETFROM:+0200
TZOFFSETTO:+0100
TZNAME:CET
DTSTART:20211031T010000
END:STANDARD
BEGIN:DAYLIGHT
TZOFFSETFROM:+0100
TZOFFSETTO:+0200
TZNAME:CEST
DTSTART:20220327T010000
END:DAYLIGHT
BEGIN:STANDARD
TZOFFSETFROM:+0200
TZOFFSETTO:+0100
TZNAME:CET
DTSTART:20221030T010000
END:STANDARD
BEGIN:DAYLIGHT
TZOFFSETFROM:+0100
TZOFFSETTO:+0200
TZNAME:CEST
DTSTART:20230326T010000
END:DAYLIGHT
BEGIN:STANDARD
TZOFFSETFROM:+0200
TZOFFSETTO:+0100
TZNAME:CET
DTSTART:20231029T010000
END:STANDARD
END:VTIMEZONE
BEGIN:VEVENT
DTSTART;TZID=Europe/Berlin:20220312T110000
DTEND;TZID=Europe/Berlin:20220312T140000
DTSTAMP:20260423T093504
CREATED:20220228T161229Z
LAST-MODIFIED:20220228T205727Z
UID:10000737-1647082800-1647093600@verschickungsheime.de
SUMMARY:Selbsthilfe Baden-Württemberg
DESCRIPTION:Wir laden herzlich ein zur Selbsthilfe Baden-Württemberg Präsenz-Veranstaltung im KISS Stuttgart\, Tübinger Straße 15\, 70178 Stuttgart
URL:https://verschickungsheime.de/event/12472/
CATEGORIES:Baden-Württemberg
END:VEVENT
BEGIN:VEVENT
DTSTART;TZID=Europe/Berlin:20220312T150000
DTEND;TZID=Europe/Berlin:20220312T170000
DTSTAMP:20260423T093504
CREATED:20220307T120845Z
LAST-MODIFIED:20220307T140014Z
UID:10000621-1647097200-1647104400@verschickungsheime.de
SUMMARY:Hamburger Onlineschalte
DESCRIPTION:Für alle\, die in Hamburg wohnen und als Kinder von Hamburg verschickt wurden\, wir freuen uns! Meldet euch! Für alle Hamburgerinnen\, das Thalia-Theater sucht noch dringend eine Statistin\, sie soll über 60 Jahre alt sein und in Hamburg wohnen\, meldet euch bei: verschickungskinder.hh@gmail.com
URL:https://verschickungsheime.de/event/hamburger-onlineschalte/
END:VEVENT
END:VCALENDAR