BEGIN:VCALENDAR
VERSION:2.0
PRODID:-//Verschickungsheime - ECPv6.15.20//NONSGML v1.0//EN
CALSCALE:GREGORIAN
METHOD:PUBLISH
X-ORIGINAL-URL:https://verschickungsheime.de
X-WR-CALDESC:Veranstaltungen für Verschickungsheime
REFRESH-INTERVAL;VALUE=DURATION:PT1H
X-Robots-Tag:noindex
X-PUBLISHED-TTL:PT1H
BEGIN:VTIMEZONE
TZID:Europe/Berlin
BEGIN:DAYLIGHT
TZOFFSETFROM:+0100
TZOFFSETTO:+0200
TZNAME:CEST
DTSTART:20210328T010000
END:DAYLIGHT
BEGIN:STANDARD
TZOFFSETFROM:+0200
TZOFFSETTO:+0100
TZNAME:CET
DTSTART:20211031T010000
END:STANDARD
BEGIN:DAYLIGHT
TZOFFSETFROM:+0100
TZOFFSETTO:+0200
TZNAME:CEST
DTSTART:20220327T010000
END:DAYLIGHT
BEGIN:STANDARD
TZOFFSETFROM:+0200
TZOFFSETTO:+0100
TZNAME:CET
DTSTART:20221030T010000
END:STANDARD
BEGIN:DAYLIGHT
TZOFFSETFROM:+0100
TZOFFSETTO:+0200
TZNAME:CEST
DTSTART:20230326T010000
END:DAYLIGHT
BEGIN:STANDARD
TZOFFSETFROM:+0200
TZOFFSETTO:+0100
TZNAME:CET
DTSTART:20231029T010000
END:STANDARD
END:VTIMEZONE
BEGIN:VEVENT
DTSTART;TZID=Europe/Berlin:20220317T163000
DTEND;TZID=Europe/Berlin:20220317T183000
DTSTAMP:20260423T093408
CREATED:20220315T082056Z
LAST-MODIFIED:20220315T082059Z
UID:10000742-1647534600-1647541800@verschickungsheime.de
SUMMARY:Zoom-Webinar: Kinderschutz in NRW – wie können wir unsere Kinder schützen?
DESCRIPTION:Die SPD-Landtagsfraktion NRW lädt zu ihrer Veranstaltungsreihe „SPD-Fraktion im Gespräch“ ein: \n\n\n\n„Im Rahmen verschiedener kurzer Fachgespräche möchten wir mit Expert:innen über die Herausforderungen der Bedürfnisse von Jugendlichen und den Schutz von Kindern in NRW sprechen.“ \n\n\n\n„Kinderschutz ist immer eine Aufgabe der gesamten Gesellschaft – finden wir. Wie muss daher ein gutes Kinderschutzgesetz für NRW aussehen? Wie Heinz Hilgers\, Präsident des Deutschen Kinderschutzbundes\, dazu steht\, diskutieren wir mit ihm auf unserer Veranstaltung zum Kinderschutz in NRW. Mit dabei: Britta Altenkamp\, Vorsitzende der Kommission zur Wahrnehmung der Belange der Kinder\, und Dr. Dennis Maelzer\, unser familienpolitischer Sprecher.“ ­­“Diskutiert mit uns auch darüber\, was Familie und Freundeskreis dazu beitragen können\, um Kinder zu schützen und zu stärken.“Anmeldung unter: www.machen-wir.de/kinderschutz
URL:https://verschickungsheime.de/event/zoom-webinar-kinderschutz-in-nrw-wie-koennen-wir-unsere-kinder-schuetzen/
END:VEVENT
END:VCALENDAR