BEGIN:VCALENDAR
VERSION:2.0
PRODID:-//Verschickungsheime - ECPv6.15.20//NONSGML v1.0//EN
CALSCALE:GREGORIAN
METHOD:PUBLISH
X-WR-CALNAME:Verschickungsheime
X-ORIGINAL-URL:https://verschickungsheime.de
X-WR-CALDESC:Veranstaltungen für Verschickungsheime
REFRESH-INTERVAL;VALUE=DURATION:PT1H
X-Robots-Tag:noindex
X-PUBLISHED-TTL:PT1H
BEGIN:VTIMEZONE
TZID:Europe/Berlin
BEGIN:DAYLIGHT
TZOFFSETFROM:+0100
TZOFFSETTO:+0200
TZNAME:CEST
DTSTART:20210328T010000
END:DAYLIGHT
BEGIN:STANDARD
TZOFFSETFROM:+0200
TZOFFSETTO:+0100
TZNAME:CET
DTSTART:20211031T010000
END:STANDARD
BEGIN:DAYLIGHT
TZOFFSETFROM:+0100
TZOFFSETTO:+0200
TZNAME:CEST
DTSTART:20220327T010000
END:DAYLIGHT
BEGIN:STANDARD
TZOFFSETFROM:+0200
TZOFFSETTO:+0100
TZNAME:CET
DTSTART:20221030T010000
END:STANDARD
BEGIN:DAYLIGHT
TZOFFSETFROM:+0100
TZOFFSETTO:+0200
TZNAME:CEST
DTSTART:20230326T010000
END:DAYLIGHT
BEGIN:STANDARD
TZOFFSETFROM:+0200
TZOFFSETTO:+0100
TZNAME:CET
DTSTART:20231029T010000
END:STANDARD
END:VTIMEZONE
BEGIN:VEVENT
DTSTART;TZID=Europe/Berlin:20220321T180000
DTEND;TZID=Europe/Berlin:20220321T200000
DTSTAMP:20260423T093348
CREATED:20220311T075046Z
LAST-MODIFIED:20220311T075050Z
UID:10000627-1647885600-1647892800@verschickungsheime.de
SUMMARY:Berliner Selbsthilfe Gruppe online
DESCRIPTION:In dieser Gruppe geben wir uns den Raum uns gegenseitig zuzuhören und in den Austausch über unsere eigenen Erlebnisse\, Erinnerungen und den Umgang damit zu gehen. Wir treffen uns erstmal wieder nur online am 3.Montag im Monat. Anmeldung und Link bei Valerie unter Selbsthilfe-Berlin@verschickungsheime.de
URL:https://verschickungsheime.de/event/berliner-selbsthilfe-gruppe-online/
END:VEVENT
BEGIN:VEVENT
DTSTART;TZID=Europe/Berlin:20220321T193000
DTEND;TZID=Europe/Berlin:20220321T210000
DTSTAMP:20260423T093348
CREATED:20211126T163313Z
LAST-MODIFIED:20220321T180959Z
UID:10000585-1647891000-1647896400@verschickungsheime.de
SUMMARY:Online-Buchvorstellung mit ANJA RÖHL: Das vergessene Elend der Verschickungskinder\,  VHS Reutlingen
DESCRIPTION:Vortrag und Lesung zum Thema: Vergessene traumatische Erinnerungen an Kindererholungsheime. In der VHS Reutlingen: Umgestellt auf Online-Lesung und Buchvorstellung: „Das Elend der Verschickungskinder-Kindererholungsheime als Orte der Gewalt“ Erstes grundlegendes Werk über Kinder-Verschickungen. Lesung auch aus dem Buch: Heimweh-Verschickungskinder erzählen. In der Volkshochschule Reutlingen\, in der Spendhausstraße 6\, D 72764 Reutlingen\, Anmeldung: 07121 336-117\, oder per mail: ikarki@vhsrt.de \n\n\n\nHier der link zur Veranstaltung in der VHS Reutlingen: https://www.vhsrt.de/Veranstaltung/cmx604a1e27817b3.html
URL:https://verschickungsheime.de/event/vergessene-traumatische-erinnerungen-an-kindererholungsheime-in-der-vhs-reutlingen-mit-anja-roehl/
CATEGORIES:Thüringen
END:VEVENT
END:VCALENDAR