BEGIN:VCALENDAR
VERSION:2.0
PRODID:-//Verschickungsheime - ECPv6.15.20//NONSGML v1.0//EN
CALSCALE:GREGORIAN
METHOD:PUBLISH
X-WR-CALNAME:Verschickungsheime
X-ORIGINAL-URL:https://verschickungsheime.de
X-WR-CALDESC:Veranstaltungen für Verschickungsheime
REFRESH-INTERVAL;VALUE=DURATION:PT1H
X-Robots-Tag:noindex
X-PUBLISHED-TTL:PT1H
BEGIN:VTIMEZONE
TZID:Europe/Berlin
BEGIN:DAYLIGHT
TZOFFSETFROM:+0100
TZOFFSETTO:+0200
TZNAME:CEST
DTSTART:20210328T010000
END:DAYLIGHT
BEGIN:STANDARD
TZOFFSETFROM:+0200
TZOFFSETTO:+0100
TZNAME:CET
DTSTART:20211031T010000
END:STANDARD
BEGIN:DAYLIGHT
TZOFFSETFROM:+0100
TZOFFSETTO:+0200
TZNAME:CEST
DTSTART:20220327T010000
END:DAYLIGHT
BEGIN:STANDARD
TZOFFSETFROM:+0200
TZOFFSETTO:+0100
TZNAME:CET
DTSTART:20221030T010000
END:STANDARD
BEGIN:DAYLIGHT
TZOFFSETFROM:+0100
TZOFFSETTO:+0200
TZNAME:CEST
DTSTART:20230326T010000
END:DAYLIGHT
BEGIN:STANDARD
TZOFFSETFROM:+0200
TZOFFSETTO:+0100
TZNAME:CET
DTSTART:20231029T010000
END:STANDARD
END:VTIMEZONE
BEGIN:VEVENT
DTSTART;TZID=Europe/Berlin:20220407T180000
DTEND;TZID=Europe/Berlin:20220407T200000
DTSTAMP:20260423T080725
CREATED:20220211T073523Z
LAST-MODIFIED:20220323T073653Z
UID:10000722-1649354400-1649361600@verschickungsheime.de
SUMMARY:2. Videotreffen Brilon-Möhneburg
DESCRIPTION:Am 10.02.2022 fand ein erstes informelles Treffen zu Brilon-Möhneburg statt. Dabei wurde beschlossen\, es nicht bei diesem ersten Gedankenaustausch zu belassen.Wir laden daher alle Betroffenen\, die nach Brilon-Möhneburg\, NRW verschickt wurden\, zum 2. Videotreffen am Donnerstag\, den 07.04.2022\, 18.00 – 20.00 Uhr ein.Wer den Einladungslink nicht per Brilon-Verteiler automatisch erhält\, kann sich gerne unter Brilon-Moehneburg@verschickungsheime.de anmelden.
URL:https://verschickungsheime.de/event/2-videotreffen-brilon-moehneburg/
CATEGORIES:NRW
END:VEVENT
BEGIN:VEVENT
DTSTART;TZID=Europe/Berlin:20220407T193000
DTEND;TZID=Europe/Berlin:20220407T213000
DTSTAMP:20260423T080725
CREATED:20220402T112440Z
LAST-MODIFIED:20220402T112443Z
UID:10000756-1649359800-1649367000@verschickungsheime.de
SUMMARY:Zoomtreffen für Hessen
DESCRIPTION:
URL:https://verschickungsheime.de/event/zoomtreffen-fuer-hessen/
END:VEVENT
END:VCALENDAR