BEGIN:VCALENDAR
VERSION:2.0
PRODID:-//Verschickungsheime - ECPv6.15.20//NONSGML v1.0//EN
CALSCALE:GREGORIAN
METHOD:PUBLISH
X-WR-CALNAME:Verschickungsheime
X-ORIGINAL-URL:https://verschickungsheime.de
X-WR-CALDESC:Veranstaltungen für Verschickungsheime
REFRESH-INTERVAL;VALUE=DURATION:PT1H
X-Robots-Tag:noindex
X-PUBLISHED-TTL:PT1H
BEGIN:VTIMEZONE
TZID:Europe/Berlin
BEGIN:DAYLIGHT
TZOFFSETFROM:+0100
TZOFFSETTO:+0200
TZNAME:CEST
DTSTART:20210328T010000
END:DAYLIGHT
BEGIN:STANDARD
TZOFFSETFROM:+0200
TZOFFSETTO:+0100
TZNAME:CET
DTSTART:20211031T010000
END:STANDARD
BEGIN:DAYLIGHT
TZOFFSETFROM:+0100
TZOFFSETTO:+0200
TZNAME:CEST
DTSTART:20220327T010000
END:DAYLIGHT
BEGIN:STANDARD
TZOFFSETFROM:+0200
TZOFFSETTO:+0100
TZNAME:CET
DTSTART:20221030T010000
END:STANDARD
BEGIN:DAYLIGHT
TZOFFSETFROM:+0100
TZOFFSETTO:+0200
TZNAME:CEST
DTSTART:20230326T010000
END:DAYLIGHT
BEGIN:STANDARD
TZOFFSETFROM:+0200
TZOFFSETTO:+0100
TZNAME:CET
DTSTART:20231029T010000
END:STANDARD
END:VTIMEZONE
BEGIN:VEVENT
DTSTART;TZID=Europe/Berlin:20220408T190000
DTEND;TZID=Europe/Berlin:20220408T210000
DTSTAMP:20260423T080808
CREATED:20211228T205609Z
LAST-MODIFIED:20220318T112840Z
UID:10000703-1649444400-1649451600@verschickungsheime.de
SUMMARY:Vortrag und Lesung mit Anja Röhl in der Kunstklinik in Hamburg Eppendorf
DESCRIPTION:Uhrzeit: 19-21 Uhr: Vortrag zum Thema: Das Elend der Verschickungskinder-Kindererholungsheime als Orte der Gewalt\, Informationen\, Dokumentationen\, mögliche Ursachen\, mit Leseproben aus: „Heimweh-Verschickungskinder erzählen“\, in der Kunstklinik im Kulturzentrum Eppendorf\, der link zur Veranstaltung ist \n\n\n\nhier \n\n\n\nherunterzuladen \n\n\n\nAnmelden bei: \n\n\n\nRika Tjakea\nKUNSTKLINIK - Kulturzentrum Eppendorf\nMartinistraße 44a\n20251 Hamburg\nTelefon 780 50 400\nwww.kunstklinik.hamburg
URL:https://verschickungsheime.de/event/vortrag-und-lesung-mit-anja-roehl-in-der-kunstklinik-in-hamburg-eppendorf/
END:VEVENT
END:VCALENDAR