BEGIN:VCALENDAR
VERSION:2.0
PRODID:-//Verschickungsheime - ECPv6.15.20//NONSGML v1.0//EN
CALSCALE:GREGORIAN
METHOD:PUBLISH
X-WR-CALNAME:Verschickungsheime
X-ORIGINAL-URL:https://verschickungsheime.de
X-WR-CALDESC:Veranstaltungen für Verschickungsheime
REFRESH-INTERVAL;VALUE=DURATION:PT1H
X-Robots-Tag:noindex
X-PUBLISHED-TTL:PT1H
BEGIN:VTIMEZONE
TZID:Europe/Berlin
BEGIN:DAYLIGHT
TZOFFSETFROM:+0100
TZOFFSETTO:+0200
TZNAME:CEST
DTSTART:20210328T010000
END:DAYLIGHT
BEGIN:STANDARD
TZOFFSETFROM:+0200
TZOFFSETTO:+0100
TZNAME:CET
DTSTART:20211031T010000
END:STANDARD
BEGIN:DAYLIGHT
TZOFFSETFROM:+0100
TZOFFSETTO:+0200
TZNAME:CEST
DTSTART:20220327T010000
END:DAYLIGHT
BEGIN:STANDARD
TZOFFSETFROM:+0200
TZOFFSETTO:+0100
TZNAME:CET
DTSTART:20221030T010000
END:STANDARD
BEGIN:DAYLIGHT
TZOFFSETFROM:+0100
TZOFFSETTO:+0200
TZNAME:CEST
DTSTART:20230326T010000
END:DAYLIGHT
BEGIN:STANDARD
TZOFFSETFROM:+0200
TZOFFSETTO:+0100
TZNAME:CET
DTSTART:20231029T010000
END:STANDARD
END:VTIMEZONE
BEGIN:VEVENT
DTSTART;TZID=Europe/Berlin:20220409T200000
DTEND;TZID=Europe/Berlin:20220409T220000
DTSTAMP:20260423T080904
CREATED:20220405T170908Z
LAST-MODIFIED:20220405T170912Z
UID:10000757-1649534400-1649541600@verschickungsheime.de
SUMMARY:Das Elend der Verschickungskinder - in ULM - Buchlesung und Einführung ins Thema
DESCRIPTION:Lesung zum Thema Kinderverschickungen mit vielen Hintergrundberichten\, aus beiden Büchern von Anja Röhl im Akademietheater Ulm\, einfach vorbeikommen\, Platz für 60 Menschen\, Austrittsspende: In der blackBOX des Akademietheaters Ulm\, in der Zinglerstrasse 35 in Ulm.
URL:https://verschickungsheime.de/event/das-elend-der-verschickungskinder-in-ulm-buchlesung-und-einfuehrung-ins-thema/
END:VEVENT
END:VCALENDAR