BEGIN:VCALENDAR
VERSION:2.0
PRODID:-//Verschickungsheime - ECPv6.15.20//NONSGML v1.0//EN
CALSCALE:GREGORIAN
METHOD:PUBLISH
X-ORIGINAL-URL:https://verschickungsheime.de
X-WR-CALDESC:Veranstaltungen für Verschickungsheime
REFRESH-INTERVAL;VALUE=DURATION:PT1H
X-Robots-Tag:noindex
X-PUBLISHED-TTL:PT1H
BEGIN:VTIMEZONE
TZID:Europe/Berlin
BEGIN:DAYLIGHT
TZOFFSETFROM:+0100
TZOFFSETTO:+0200
TZNAME:CEST
DTSTART:20210328T010000
END:DAYLIGHT
BEGIN:STANDARD
TZOFFSETFROM:+0200
TZOFFSETTO:+0100
TZNAME:CET
DTSTART:20211031T010000
END:STANDARD
BEGIN:DAYLIGHT
TZOFFSETFROM:+0100
TZOFFSETTO:+0200
TZNAME:CEST
DTSTART:20220327T010000
END:DAYLIGHT
BEGIN:STANDARD
TZOFFSETFROM:+0200
TZOFFSETTO:+0100
TZNAME:CET
DTSTART:20221030T010000
END:STANDARD
BEGIN:DAYLIGHT
TZOFFSETFROM:+0100
TZOFFSETTO:+0200
TZNAME:CEST
DTSTART:20230326T010000
END:DAYLIGHT
BEGIN:STANDARD
TZOFFSETFROM:+0200
TZOFFSETTO:+0100
TZNAME:CET
DTSTART:20231029T010000
END:STANDARD
END:VTIMEZONE
BEGIN:VEVENT
DTSTART;TZID=Europe/Berlin:20220410T110000
DTEND;TZID=Europe/Berlin:20220410T123000
DTSTAMP:20260423T080414
CREATED:20220324T104106Z
LAST-MODIFIED:20220324T104134Z
UID:10000744-1649588400-1649593800@verschickungsheime.de
SUMMARY:Hilke Lorenz: Wir Verschickungskinder
DESCRIPTION:Eine Veranstaltung des Literaturkalenders KölnModeration: Bernhardt SchmidtAus der Ankündigung:„Hilke Lorenz hat mit vielen ehemaligen Verschickungskindern gesprochen. Sie erzählt ihre Geschichten und geht ihren Hinweisen nach. Hilke Lorenz ist Profilautorin der Stuttgarter Zeitung mit dem Schwerpunkt recht- und gesellschaftspolitische Themen. Sie publizierte im Beltz Verlag das Buch „Die Akte Verschickungskinder“.Die Veranstaltung findet nach Maßgabe der Coronaschutzverordnung statt.Begrenztes Platzangebot: Wir bitten wieder um Anmeldung per einfacher Mail an:muelheimerliteraturclub (at) gmx.de“https://literaturkalender-koeln.de/event/wir-verschickungskinder/Veranstaltungsort:Et Kapellche e.V.Holsteinstr. 151065 Kölnhttps://etkapellche.de/
URL:https://verschickungsheime.de/event/hilke-lorenz-wir-verschickungskinder/
CATEGORIES:NRW
END:VEVENT
END:VCALENDAR