BEGIN:VCALENDAR
VERSION:2.0
PRODID:-//Verschickungsheime - ECPv6.15.20//NONSGML v1.0//EN
CALSCALE:GREGORIAN
METHOD:PUBLISH
X-ORIGINAL-URL:https://verschickungsheime.de
X-WR-CALDESC:Veranstaltungen für Verschickungsheime
REFRESH-INTERVAL;VALUE=DURATION:PT1H
X-Robots-Tag:noindex
X-PUBLISHED-TTL:PT1H
BEGIN:VTIMEZONE
TZID:Europe/Berlin
BEGIN:DAYLIGHT
TZOFFSETFROM:+0100
TZOFFSETTO:+0200
TZNAME:CEST
DTSTART:20210328T010000
END:DAYLIGHT
BEGIN:STANDARD
TZOFFSETFROM:+0200
TZOFFSETTO:+0100
TZNAME:CET
DTSTART:20211031T010000
END:STANDARD
BEGIN:DAYLIGHT
TZOFFSETFROM:+0100
TZOFFSETTO:+0200
TZNAME:CEST
DTSTART:20220327T010000
END:DAYLIGHT
BEGIN:STANDARD
TZOFFSETFROM:+0200
TZOFFSETTO:+0100
TZNAME:CET
DTSTART:20221030T010000
END:STANDARD
BEGIN:DAYLIGHT
TZOFFSETFROM:+0100
TZOFFSETTO:+0200
TZNAME:CEST
DTSTART:20230326T010000
END:DAYLIGHT
BEGIN:STANDARD
TZOFFSETFROM:+0200
TZOFFSETTO:+0100
TZNAME:CET
DTSTART:20231029T010000
END:STANDARD
END:VTIMEZONE
BEGIN:VEVENT
DTSTART;TZID=Europe/Berlin:20220511T183000
DTEND;TZID=Europe/Berlin:20220511T210000
DTSTAMP:20260423T064902
CREATED:20220414T221706Z
LAST-MODIFIED:20220414T221709Z
UID:10000766-1652293800-1652302800@verschickungsheime.de
SUMMARY:Lesung in Köln: Das Elend der Verschickungskinder - Lesung und Diskussion mit Anja Röhl
DESCRIPTION:Was sind Verschickungskinder\, was haben sie erlebt? Warum erinnern sie sich jetzt erst\, nach so langer Zeit? Sind die schlimmen Erlebnisse\, die bekannt geworden sind\, bloße Einzelfälle? Was wäre notwendig\, um der Wahrheit nachzugehen? Wie können sich Betroffene finden? Dem Phänomen Verschickungskinder nachgehen\, Lesung und Vortrag von Anja Röhl: Im FORUM Volkshochschule im Museum am Neumarkt\, Cäcilienstr. 29-33\, 50667 Köln\, Altstadt-Süd\, ANMELDUNG \n\n\n\nhier \n\n\n\nVor Ort besteht Kontaktmöglichkeit zur Selbsthilfegruppe Köln: Verschickungskids.Koeln.NRW@gmx.de.
URL:https://verschickungsheime.de/event/lesung-in-koeln-das-elend-der-verschickungskinder-lesung-und-diskussion-mit-anja-roehl/
END:VEVENT
END:VCALENDAR