BEGIN:VCALENDAR
VERSION:2.0
PRODID:-//Verschickungsheime - ECPv6.15.20//NONSGML v1.0//EN
CALSCALE:GREGORIAN
METHOD:PUBLISH
X-WR-CALNAME:Verschickungsheime
X-ORIGINAL-URL:https://verschickungsheime.de
X-WR-CALDESC:Veranstaltungen für Verschickungsheime
REFRESH-INTERVAL;VALUE=DURATION:PT1H
X-Robots-Tag:noindex
X-PUBLISHED-TTL:PT1H
BEGIN:VTIMEZONE
TZID:Europe/Berlin
BEGIN:DAYLIGHT
TZOFFSETFROM:+0100
TZOFFSETTO:+0200
TZNAME:CEST
DTSTART:20210328T010000
END:DAYLIGHT
BEGIN:STANDARD
TZOFFSETFROM:+0200
TZOFFSETTO:+0100
TZNAME:CET
DTSTART:20211031T010000
END:STANDARD
BEGIN:DAYLIGHT
TZOFFSETFROM:+0100
TZOFFSETTO:+0200
TZNAME:CEST
DTSTART:20220327T010000
END:DAYLIGHT
BEGIN:STANDARD
TZOFFSETFROM:+0200
TZOFFSETTO:+0100
TZNAME:CET
DTSTART:20221030T010000
END:STANDARD
BEGIN:DAYLIGHT
TZOFFSETFROM:+0100
TZOFFSETTO:+0200
TZNAME:CEST
DTSTART:20230326T010000
END:DAYLIGHT
BEGIN:STANDARD
TZOFFSETFROM:+0200
TZOFFSETTO:+0100
TZNAME:CET
DTSTART:20231029T010000
END:STANDARD
END:VTIMEZONE
BEGIN:VEVENT
DTSTART;TZID=Europe/Berlin:20220519T173000
DTEND;TZID=Europe/Berlin:20220519T190000
DTSTAMP:20260423T064544
CREATED:20220412T102900Z
LAST-MODIFIED:20220517T071330Z
UID:10000760-1652981400-1652986800@verschickungsheime.de
SUMMARY:3. Videotreffen Brilon-Möhneburg
DESCRIPTION:Wir laden alle Betroffenen\, die nach Brilon-Möhneburg\, NRW verschickt wurden\, zum 3. Videotreffen am Donnerstag\, den 19.05.2022\, 17.30 – 19.00 Uhr ein. \n\n\n\nWer den Einladungslink nicht per Brilon-Verteiler automatisch erhält\, kann sich gerne unter Brilon-Moehneburg@verschickungsheime.de anmelden.
URL:https://verschickungsheime.de/event/3-videotreffen-brilon-moehneburg/
CATEGORIES:NRW
END:VEVENT
END:VCALENDAR