BEGIN:VCALENDAR
VERSION:2.0
PRODID:-//Verschickungsheime - ECPv6.15.20//NONSGML v1.0//EN
CALSCALE:GREGORIAN
METHOD:PUBLISH
X-WR-CALNAME:Verschickungsheime
X-ORIGINAL-URL:https://verschickungsheime.de
X-WR-CALDESC:Veranstaltungen für Verschickungsheime
REFRESH-INTERVAL;VALUE=DURATION:PT1H
X-Robots-Tag:noindex
X-PUBLISHED-TTL:PT1H
BEGIN:VTIMEZONE
TZID:Europe/Berlin
BEGIN:DAYLIGHT
TZOFFSETFROM:+0100
TZOFFSETTO:+0200
TZNAME:CEST
DTSTART:20210328T010000
END:DAYLIGHT
BEGIN:STANDARD
TZOFFSETFROM:+0200
TZOFFSETTO:+0100
TZNAME:CET
DTSTART:20211031T010000
END:STANDARD
BEGIN:DAYLIGHT
TZOFFSETFROM:+0100
TZOFFSETTO:+0200
TZNAME:CEST
DTSTART:20220327T010000
END:DAYLIGHT
BEGIN:STANDARD
TZOFFSETFROM:+0200
TZOFFSETTO:+0100
TZNAME:CET
DTSTART:20221030T010000
END:STANDARD
BEGIN:DAYLIGHT
TZOFFSETFROM:+0100
TZOFFSETTO:+0200
TZNAME:CEST
DTSTART:20230326T010000
END:DAYLIGHT
BEGIN:STANDARD
TZOFFSETFROM:+0200
TZOFFSETTO:+0100
TZNAME:CET
DTSTART:20231029T010000
END:STANDARD
END:VTIMEZONE
BEGIN:VEVENT
DTSTART;TZID=Europe/Berlin:20220525T200000
DTEND;TZID=Europe/Berlin:20220525T220000
DTSTAMP:20260423T064610
CREATED:20220328T124445Z
LAST-MODIFIED:20220328T130607Z
UID:10000745-1653508800-1653516000@verschickungsheime.de
SUMMARY:SANDBANK
DESCRIPTION:Theater über Verschickungskinder auf Spiekeroog – Premiere \n\n\n\n\n\nAus der Ankündigung:„In der Theatervorstellung SANDBANK werden neben den Erinnerungen der Verschickungskinder auch die von Erzieherinnen\, Heimleitern und Hausmeistern geschildert. Die Vorstellung zeigt\, wie sehr der Umgang mit Kindern immer noch von den Erfahrungen der Elterngeneration in der Kriegszeit geprägt war.  Das Theaterstück wird in der alten Strandkorbhalle in den Dünen von Spiekeroog gespielt\, bevor das Gebäude im Herbst rückgebaut wird. Die Premiere findet am 25. Mai 2022 statt. Anschließend wird das Stück bis zum 19. August 2022 montags bis freitags jeweils um 20:00 Uhr aufgeführt. Außerdem finden Sonderveranstaltungen für Gäste vom Festland statt.“https://www.kulturstiftung-spiekeroog.de/sandbank
URL:https://verschickungsheime.de/event/sandbank/
CATEGORIES:Niedersachsen
END:VEVENT
END:VCALENDAR