BEGIN:VCALENDAR
VERSION:2.0
PRODID:-//Verschickungsheime - ECPv6.15.20//NONSGML v1.0//EN
CALSCALE:GREGORIAN
METHOD:PUBLISH
X-WR-CALNAME:Verschickungsheime
X-ORIGINAL-URL:https://verschickungsheime.de
X-WR-CALDESC:Veranstaltungen für Verschickungsheime
REFRESH-INTERVAL;VALUE=DURATION:PT1H
X-Robots-Tag:noindex
X-PUBLISHED-TTL:PT1H
BEGIN:VTIMEZONE
TZID:Europe/Berlin
BEGIN:DAYLIGHT
TZOFFSETFROM:+0100
TZOFFSETTO:+0200
TZNAME:CEST
DTSTART:20210328T010000
END:DAYLIGHT
BEGIN:STANDARD
TZOFFSETFROM:+0200
TZOFFSETTO:+0100
TZNAME:CET
DTSTART:20211031T010000
END:STANDARD
BEGIN:DAYLIGHT
TZOFFSETFROM:+0100
TZOFFSETTO:+0200
TZNAME:CEST
DTSTART:20220327T010000
END:DAYLIGHT
BEGIN:STANDARD
TZOFFSETFROM:+0200
TZOFFSETTO:+0100
TZNAME:CET
DTSTART:20221030T010000
END:STANDARD
BEGIN:DAYLIGHT
TZOFFSETFROM:+0100
TZOFFSETTO:+0200
TZNAME:CEST
DTSTART:20230326T010000
END:DAYLIGHT
BEGIN:STANDARD
TZOFFSETFROM:+0200
TZOFFSETTO:+0100
TZNAME:CET
DTSTART:20231029T010000
END:STANDARD
END:VTIMEZONE
BEGIN:VEVENT
DTSTART;TZID=Europe/Berlin:20220613T200000
DTEND;TZID=Europe/Berlin:20220613T220000
DTSTAMP:20260423T053751
CREATED:20220523T102912Z
LAST-MODIFIED:20220523T103050Z
UID:10000790-1655150400-1655157600@verschickungsheime.de
SUMMARY:Theateraufführung in Spiekeroog: Theaterstück SANDBANK\, mit Besuch der Autorin Anja Röhl
DESCRIPTION:20:00 Uhr: Vorstellung SANDBANK in der Strandsporthalle mit Besuch der Autorin Anja Röhl und anschließender Gesprächsgelegenheit\, am nächsten Tag: Dienstag\, 14. Juni um 16:00 Uhr Lesung mit Anja Röhl im örtlichen Kino der Insel
URL:https://verschickungsheime.de/event/theaterauffuehrung-in-spiekeroog-des-theaters-sandbank-mit-besuch-der-autorin-anja-roehl/
END:VEVENT
END:VCALENDAR