BEGIN:VCALENDAR
VERSION:2.0
PRODID:-//Verschickungsheime - ECPv6.15.20//NONSGML v1.0//EN
CALSCALE:GREGORIAN
METHOD:PUBLISH
X-ORIGINAL-URL:https://verschickungsheime.de
X-WR-CALDESC:Veranstaltungen für Verschickungsheime
REFRESH-INTERVAL;VALUE=DURATION:PT1H
X-Robots-Tag:noindex
X-PUBLISHED-TTL:PT1H
BEGIN:VTIMEZONE
TZID:Europe/Berlin
BEGIN:DAYLIGHT
TZOFFSETFROM:+0100
TZOFFSETTO:+0200
TZNAME:CEST
DTSTART:20210328T010000
END:DAYLIGHT
BEGIN:STANDARD
TZOFFSETFROM:+0200
TZOFFSETTO:+0100
TZNAME:CET
DTSTART:20211031T010000
END:STANDARD
BEGIN:DAYLIGHT
TZOFFSETFROM:+0100
TZOFFSETTO:+0200
TZNAME:CEST
DTSTART:20220327T010000
END:DAYLIGHT
BEGIN:STANDARD
TZOFFSETFROM:+0200
TZOFFSETTO:+0100
TZNAME:CET
DTSTART:20221030T010000
END:STANDARD
BEGIN:DAYLIGHT
TZOFFSETFROM:+0100
TZOFFSETTO:+0200
TZNAME:CEST
DTSTART:20230326T010000
END:DAYLIGHT
BEGIN:STANDARD
TZOFFSETFROM:+0200
TZOFFSETTO:+0100
TZNAME:CET
DTSTART:20231029T010000
END:STANDARD
END:VTIMEZONE
BEGIN:VEVENT
DTSTART;TZID=Europe/Berlin:20220802T170000
DTEND;TZID=Europe/Berlin:20220802T190000
DTSTAMP:20260423T025830
CREATED:20220329T152253Z
LAST-MODIFIED:20220329T152259Z
UID:10000750-1659459600-1659466800@verschickungsheime.de
SUMMARY:Selbsthilfegruppe Verschickungskinder Köln
DESCRIPTION:
URL:https://verschickungsheime.de/event/selbsthilfegruppe-verschickungskinder-koeln-5/
END:VEVENT
BEGIN:VEVENT
DTSTART;TZID=Europe/Berlin:20220802T190000
DTEND;TZID=Europe/Berlin:20220802T210000
DTSTAMP:20260423T025830
CREATED:20220519T071042Z
LAST-MODIFIED:20220519T071109Z
UID:10000784-1659466800-1659474000@verschickungsheime.de
SUMMARY:HOK-Treffen Bad Sassendorf\, NRW
DESCRIPTION:Anmeldung bzw. Zoomlink zum Videotreffen über Isabelle Nünninghoff per Mail: isabelle.nuenninghoff@akv-nrw.de
URL:https://verschickungsheime.de/event/hok-treffen-bad-sassendorf-nrw-3/
CATEGORIES:NRW
END:VEVENT
END:VCALENDAR