BEGIN:VCALENDAR
VERSION:2.0
PRODID:-//Verschickungsheime - ECPv6.15.20//NONSGML v1.0//EN
CALSCALE:GREGORIAN
METHOD:PUBLISH
X-WR-CALNAME:Verschickungsheime
X-ORIGINAL-URL:https://verschickungsheime.de
X-WR-CALDESC:Veranstaltungen für Verschickungsheime
REFRESH-INTERVAL;VALUE=DURATION:PT1H
X-Robots-Tag:noindex
X-PUBLISHED-TTL:PT1H
BEGIN:VTIMEZONE
TZID:Europe/Berlin
BEGIN:DAYLIGHT
TZOFFSETFROM:+0100
TZOFFSETTO:+0200
TZNAME:CEST
DTSTART:20210328T010000
END:DAYLIGHT
BEGIN:STANDARD
TZOFFSETFROM:+0200
TZOFFSETTO:+0100
TZNAME:CET
DTSTART:20211031T010000
END:STANDARD
BEGIN:DAYLIGHT
TZOFFSETFROM:+0100
TZOFFSETTO:+0200
TZNAME:CEST
DTSTART:20220327T010000
END:DAYLIGHT
BEGIN:STANDARD
TZOFFSETFROM:+0200
TZOFFSETTO:+0100
TZNAME:CET
DTSTART:20221030T010000
END:STANDARD
BEGIN:DAYLIGHT
TZOFFSETFROM:+0100
TZOFFSETTO:+0200
TZNAME:CEST
DTSTART:20230326T010000
END:DAYLIGHT
BEGIN:STANDARD
TZOFFSETFROM:+0200
TZOFFSETTO:+0100
TZNAME:CET
DTSTART:20231029T010000
END:STANDARD
END:VTIMEZONE
BEGIN:VEVENT
DTSTART;TZID=Europe/Berlin:20220816T180000
DTEND;TZID=Europe/Berlin:20220816T200000
DTSTAMP:20260423T025545
CREATED:20220615T082553Z
LAST-MODIFIED:20220615T082612Z
UID:10000791-1660672800-1660680000@verschickungsheime.de
SUMMARY:20. Videotreffen NDS
DESCRIPTION:Wir laden alle Betroffenen mit Niedersachsen-Relevanz (aus Niedersachsen in ein anderes Bundesland\, oder aus einem anderen Bundesland nach Niedersachsen verschickt\, oder keins von beiden\, jedoch aktueller Wohnort in Niedersachsen und interessiert) zum 20. Videotreffen am Dienstag\, den 16.08.2022\, 18.00 – 20.00 Uhr ein. \n\n\n\nLeitung des Treffens:Sabine Schwemm\, Landeskoordinatorin Niedersachsen \n\n\n\nDen Einladungslink erhaltet ihr unter:verschickungsheime-nds@outlook.com
URL:https://verschickungsheime.de/event/20-videotreffen-nds/
CATEGORIES:Niedersachsen
END:VEVENT
END:VCALENDAR