BEGIN:VCALENDAR
VERSION:2.0
PRODID:-//Verschickungsheime - ECPv6.15.20//NONSGML v1.0//EN
CALSCALE:GREGORIAN
METHOD:PUBLISH
X-WR-CALNAME:Verschickungsheime
X-ORIGINAL-URL:https://verschickungsheime.de
X-WR-CALDESC:Veranstaltungen für Verschickungsheime
REFRESH-INTERVAL;VALUE=DURATION:PT1H
X-Robots-Tag:noindex
X-PUBLISHED-TTL:PT1H
BEGIN:VTIMEZONE
TZID:Europe/Berlin
BEGIN:DAYLIGHT
TZOFFSETFROM:+0100
TZOFFSETTO:+0200
TZNAME:CEST
DTSTART:20210328T010000
END:DAYLIGHT
BEGIN:STANDARD
TZOFFSETFROM:+0200
TZOFFSETTO:+0100
TZNAME:CET
DTSTART:20211031T010000
END:STANDARD
BEGIN:DAYLIGHT
TZOFFSETFROM:+0100
TZOFFSETTO:+0200
TZNAME:CEST
DTSTART:20220327T010000
END:DAYLIGHT
BEGIN:STANDARD
TZOFFSETFROM:+0200
TZOFFSETTO:+0100
TZNAME:CET
DTSTART:20221030T010000
END:STANDARD
BEGIN:DAYLIGHT
TZOFFSETFROM:+0100
TZOFFSETTO:+0200
TZNAME:CEST
DTSTART:20230326T010000
END:DAYLIGHT
BEGIN:STANDARD
TZOFFSETFROM:+0200
TZOFFSETTO:+0100
TZNAME:CET
DTSTART:20231029T010000
END:STANDARD
END:VTIMEZONE
BEGIN:VEVENT
DTSTART;TZID=Europe/Berlin:20220906T170000
DTEND;TZID=Europe/Berlin:20220906T190000
DTSTAMP:20260423T012959
CREATED:20220329T152349Z
LAST-MODIFIED:20220329T152352Z
UID:10000751-1662483600-1662490800@verschickungsheime.de
SUMMARY:Selbsthilfegruppe Verschickungskinder Köln
DESCRIPTION:
URL:https://verschickungsheime.de/event/selbsthilfegruppe-verschickungskinder-koeln-6/
END:VEVENT
BEGIN:VEVENT
DTSTART;TZID=Europe/Berlin:20220906T180000
DTEND;TZID=Europe/Berlin:20220906T200000
DTSTAMP:20260423T012959
CREATED:20220728T071452Z
LAST-MODIFIED:20220728T071453Z
UID:10000805-1662487200-1662494400@verschickungsheime.de
SUMMARY:Treffpunkt Verschickungskinder Nürnberg
DESCRIPTION:Treffpunkt Verschickungskinder NürnbergLive vor Ort in NürnbergMontag\, 25. Juli 2022 von 18:00 – 20:00 UhrDienstag\, 06. September 2022 von 18:00 – 20:00 UhrMehr Infos unter:https://kerstinbiss.de/treffpunkt-verschickungskinder-nuernberg/ [1]—Kerstin BißTreffpunkt Verschickungskinder NürnbergErfahrungsaustausch – Hilfe zur SelbsthilfeBring mehr Freude und Leichtigkeit in dein Leben.Kontakt:Kerstin Biß –  Räume für mehr…Oedenberger Straße 65 | 90491 NürnbergTelefon – 0911 – 999 48 415 oder  0151 – 509 74 323E-Mail: verschickungskinder.nuernberg@gmail.comhttps://kerstinbiss.de/treffpunkt-verschickungskinder-nuernberg/
URL:https://verschickungsheime.de/event/treffpunkt-verschickungskinder-nuernberg/
END:VEVENT
BEGIN:VEVENT
DTSTART;TZID=Europe/Berlin:20220906T180000
DTEND;TZID=Europe/Berlin:20220906T200000
DTSTAMP:20260423T012959
CREATED:20220823T052316Z
LAST-MODIFIED:20220823T052345Z
UID:10000820-1662487200-1662494400@verschickungsheime.de
SUMMARY:19. Videotreffen NRW
DESCRIPTION:Wir laden alle Betroffenen mit NRW-Relevanz (aus NRW in ein anderes Bundesland\, oder aus einem anderen Bundesland nach NRW verschickt\, oder keins von beiden\, jedoch aktueller Wohnort in NRW und interessiert) zum 19. Videotreffen am Dienstag\, den 06.09.2022\, 18.00 – 20.00 Uhr ein.Wer den Einladungslink nicht per NRW-Verteiler automatisch erhält\, kann sich gerne unter detlef.lichtrauter@akv-nrw.de oder unter jutta.redecker@akv-nrw anmelden.Wir freuen uns über eure Teilnahme und grüßen ganz herzlich.Detlef LichtrauterMichael Millgramm
URL:https://verschickungsheime.de/event/19-videotreffen-nrw/
CATEGORIES:NRW
END:VEVENT
BEGIN:VEVENT
DTSTART;TZID=Europe/Berlin:20220906T190000
DTEND;TZID=Europe/Berlin:20220906T210000
DTSTAMP:20260423T012959
CREATED:20220519T071230Z
LAST-MODIFIED:20220519T071250Z
UID:10000785-1662490800-1662498000@verschickungsheime.de
SUMMARY:HOK-Treffen Bad Sassendorf\, NRW
DESCRIPTION:Anmeldung bzw. Zoomlink zum Videotreffen über Isabelle Nünninghoff per Mail: isabelle.nuenninghoff@akv-nrw.de
URL:https://verschickungsheime.de/event/hok-treffen-bad-sassendorf-nrw-4/
CATEGORIES:NRW
END:VEVENT
END:VCALENDAR