BEGIN:VCALENDAR
VERSION:2.0
PRODID:-//Verschickungsheime - ECPv6.15.20//NONSGML v1.0//EN
CALSCALE:GREGORIAN
METHOD:PUBLISH
X-ORIGINAL-URL:https://verschickungsheime.de
X-WR-CALDESC:Veranstaltungen für Verschickungsheime
REFRESH-INTERVAL;VALUE=DURATION:PT1H
X-Robots-Tag:noindex
X-PUBLISHED-TTL:PT1H
BEGIN:VTIMEZONE
TZID:Europe/Berlin
BEGIN:DAYLIGHT
TZOFFSETFROM:+0100
TZOFFSETTO:+0200
TZNAME:CEST
DTSTART:20210328T010000
END:DAYLIGHT
BEGIN:STANDARD
TZOFFSETFROM:+0200
TZOFFSETTO:+0100
TZNAME:CET
DTSTART:20211031T010000
END:STANDARD
BEGIN:DAYLIGHT
TZOFFSETFROM:+0100
TZOFFSETTO:+0200
TZNAME:CEST
DTSTART:20220327T010000
END:DAYLIGHT
BEGIN:STANDARD
TZOFFSETFROM:+0200
TZOFFSETTO:+0100
TZNAME:CET
DTSTART:20221030T010000
END:STANDARD
BEGIN:DAYLIGHT
TZOFFSETFROM:+0100
TZOFFSETTO:+0200
TZNAME:CEST
DTSTART:20230326T010000
END:DAYLIGHT
BEGIN:STANDARD
TZOFFSETFROM:+0200
TZOFFSETTO:+0100
TZNAME:CET
DTSTART:20231029T010000
END:STANDARD
END:VTIMEZONE
BEGIN:VEVENT
DTSTART;TZID=Europe/Berlin:20220926T120000
DTEND;TZID=Europe/Berlin:20220926T120000
DTSTAMP:20260423T000557
CREATED:20220923T100109Z
LAST-MODIFIED:20220923T100152Z
UID:10000690-1664193600-1664193600@verschickungsheime.de
SUMMARY:Veranstaltung: Blick zurück nach heute für morgen
DESCRIPTION:Informationen und Zugang zum Online-Vortrag am 26.09.2022 findet ihr unter folgendem Link:  \n\n\n\n“Blick zurück nach heute für morgen”- Zeitzeug*innen berichten – Kinderverschickungen – VIVES bw (vives-bw.de) \n\n\n\nWir freuen uns über viele Teilnehmende. AKVBW e.V / Landesgruppe Baden-Württemberg
URL:https://verschickungsheime.de/event/veranstaltung-blick-zurueck-nach-heute-fuer-morgen/
END:VEVENT
END:VCALENDAR