BEGIN:VCALENDAR
VERSION:2.0
PRODID:-//Verschickungsheime - ECPv6.15.20//NONSGML v1.0//EN
CALSCALE:GREGORIAN
METHOD:PUBLISH
X-WR-CALNAME:Verschickungsheime
X-ORIGINAL-URL:https://verschickungsheime.de
X-WR-CALDESC:Veranstaltungen für Verschickungsheime
REFRESH-INTERVAL;VALUE=DURATION:PT1H
X-Robots-Tag:noindex
X-PUBLISHED-TTL:PT1H
BEGIN:VTIMEZONE
TZID:Europe/Berlin
BEGIN:DAYLIGHT
TZOFFSETFROM:+0100
TZOFFSETTO:+0200
TZNAME:CEST
DTSTART:20210328T010000
END:DAYLIGHT
BEGIN:STANDARD
TZOFFSETFROM:+0200
TZOFFSETTO:+0100
TZNAME:CET
DTSTART:20211031T010000
END:STANDARD
BEGIN:DAYLIGHT
TZOFFSETFROM:+0100
TZOFFSETTO:+0200
TZNAME:CEST
DTSTART:20220327T010000
END:DAYLIGHT
BEGIN:STANDARD
TZOFFSETFROM:+0200
TZOFFSETTO:+0100
TZNAME:CET
DTSTART:20221030T010000
END:STANDARD
BEGIN:DAYLIGHT
TZOFFSETFROM:+0100
TZOFFSETTO:+0200
TZNAME:CEST
DTSTART:20230326T010000
END:DAYLIGHT
BEGIN:STANDARD
TZOFFSETFROM:+0200
TZOFFSETTO:+0100
TZNAME:CET
DTSTART:20231029T010000
END:STANDARD
END:VTIMEZONE
BEGIN:VEVENT
DTSTART;TZID=Europe/Berlin:20220930T120000
DTEND;TZID=Europe/Berlin:20220930T120000
DTSTAMP:20260423T000217
CREATED:20220924T191841Z
LAST-MODIFIED:20220924T193425Z
UID:10000694-1664539200-1664539200@verschickungsheime.de
SUMMARY:HeimWeh - im Thalia Theater in Hamburg
DESCRIPTION:Wiederaufnahme des Dokumentartheater-Stücks im Thalia Gaußstraße in Hamburg-Altona: https://www.thalia-theater.de/stueck/heim–weh-2021\, Nachgespräch mit Anja Röhl
URL:https://verschickungsheime.de/event/heimweh-thalia-theater/
END:VEVENT
BEGIN:VEVENT
DTSTART;TZID=Europe/Berlin:20220930T180000
DTEND;TZID=Europe/Berlin:20220930T200000
DTSTAMP:20260423T000217
CREATED:20220917T134725Z
LAST-MODIFIED:20220917T134736Z
UID:10000680-1664560800-1664568000@verschickungsheime.de
SUMMARY:Sonnentau - Selbsthilfegruppe für Betroffene sexueller Gewalt
DESCRIPTION:Bitte bei Birgit: verschickung-wessobrunn@svaiki.de anmelden
URL:https://verschickungsheime.de/event/sonnentau-selbsthilfegruppe-fuer-betroffene-sexueller-gewalt/
END:VEVENT
END:VCALENDAR