BEGIN:VCALENDAR
VERSION:2.0
PRODID:-//Verschickungsheime - ECPv6.15.20//NONSGML v1.0//EN
CALSCALE:GREGORIAN
METHOD:PUBLISH
X-ORIGINAL-URL:https://verschickungsheime.de
X-WR-CALDESC:Veranstaltungen für Verschickungsheime
REFRESH-INTERVAL;VALUE=DURATION:PT1H
X-Robots-Tag:noindex
X-PUBLISHED-TTL:PT1H
BEGIN:VTIMEZONE
TZID:Europe/Berlin
BEGIN:DAYLIGHT
TZOFFSETFROM:+0100
TZOFFSETTO:+0200
TZNAME:CEST
DTSTART:20210328T010000
END:DAYLIGHT
BEGIN:STANDARD
TZOFFSETFROM:+0200
TZOFFSETTO:+0100
TZNAME:CET
DTSTART:20211031T010000
END:STANDARD
BEGIN:DAYLIGHT
TZOFFSETFROM:+0100
TZOFFSETTO:+0200
TZNAME:CEST
DTSTART:20220327T010000
END:DAYLIGHT
BEGIN:STANDARD
TZOFFSETFROM:+0200
TZOFFSETTO:+0100
TZNAME:CET
DTSTART:20221030T010000
END:STANDARD
BEGIN:DAYLIGHT
TZOFFSETFROM:+0100
TZOFFSETTO:+0200
TZNAME:CEST
DTSTART:20230326T010000
END:DAYLIGHT
BEGIN:STANDARD
TZOFFSETFROM:+0200
TZOFFSETTO:+0100
TZNAME:CET
DTSTART:20231029T010000
END:STANDARD
END:VTIMEZONE
BEGIN:VEVENT
DTSTART;TZID=Europe/Berlin:20221007T105500
DTEND;TZID=Europe/Berlin:20221007T115500
DTSTAMP:20260423T000440
CREATED:20220926T115120Z
LAST-MODIFIED:20221001T213242Z
UID:10000827-1665140100-1665143700@verschickungsheime.de
SUMMARY:Planet Wissen - Leid statt Erholung in der Kinderkur
DESCRIPTION:Eine einstündige Sendung über Gewalt in Verschickungsheimen wird am 7. Oktober im SWR um 10:55 Uhr ausgestrahlt. Die anderen Sendetermine finden sich auf der Homepage. Die Sendung findet sich ab dann auch auf planet-wissen.de und in der ARD-Mediathek.
URL:https://verschickungsheime.de/event/planet-wissen-ueber-gewalt-in-verschickungsheimen/
END:VEVENT
BEGIN:VEVENT
DTSTART;TZID=Europe/Berlin:20221007T190000
DTEND;TZID=Europe/Berlin:20221007T210000
DTSTAMP:20260423T000440
CREATED:20220924T193131Z
LAST-MODIFIED:20220924T193133Z
UID:10000825-1665169200-1665176400@verschickungsheime.de
SUMMARY:HeimWeh - im Thalia Theater in Hamburg
DESCRIPTION:Eine weitere Aufführung des Dokumentartheaters HeimWeh im Thalia Gaußstraße in Hamburg-Altona: https://www.thalia-theater.de/stueck/heim–weh-2021\, Nachgespräch mit Anja Röhl
URL:https://verschickungsheime.de/event/heimweh-im-thalia-theater-in-hamburg/
END:VEVENT
END:VCALENDAR