BEGIN:VCALENDAR
VERSION:2.0
PRODID:-//Verschickungsheime - ECPv6.15.20//NONSGML v1.0//EN
CALSCALE:GREGORIAN
METHOD:PUBLISH
X-ORIGINAL-URL:https://verschickungsheime.de
X-WR-CALDESC:Veranstaltungen für Verschickungsheime
REFRESH-INTERVAL;VALUE=DURATION:PT1H
X-Robots-Tag:noindex
X-PUBLISHED-TTL:PT1H
BEGIN:VTIMEZONE
TZID:Europe/Berlin
BEGIN:DAYLIGHT
TZOFFSETFROM:+0100
TZOFFSETTO:+0200
TZNAME:CEST
DTSTART:20210328T010000
END:DAYLIGHT
BEGIN:STANDARD
TZOFFSETFROM:+0200
TZOFFSETTO:+0100
TZNAME:CET
DTSTART:20211031T010000
END:STANDARD
BEGIN:DAYLIGHT
TZOFFSETFROM:+0100
TZOFFSETTO:+0200
TZNAME:CEST
DTSTART:20220327T010000
END:DAYLIGHT
BEGIN:STANDARD
TZOFFSETFROM:+0200
TZOFFSETTO:+0100
TZNAME:CET
DTSTART:20221030T010000
END:STANDARD
BEGIN:DAYLIGHT
TZOFFSETFROM:+0100
TZOFFSETTO:+0200
TZNAME:CEST
DTSTART:20230326T010000
END:DAYLIGHT
BEGIN:STANDARD
TZOFFSETFROM:+0200
TZOFFSETTO:+0100
TZNAME:CET
DTSTART:20231029T010000
END:STANDARD
END:VTIMEZONE
BEGIN:VEVENT
DTSTART;TZID=Europe/Berlin:20221013T180000
DTEND;TZID=Europe/Berlin:20221013T200000
DTSTAMP:20260422T235806
CREATED:20221004T073757Z
LAST-MODIFIED:20221004T073758Z
UID:10000829-1665684000-1665691200@verschickungsheime.de
SUMMARY:Berliner Online-Aktivenschalte
DESCRIPTION:Einladung zur Berliner Aktivenschalte\, (immer jeden 2. Donnerstag im Monat). Für alle die sich in Berlin aktiv an der Umsetzung unserer Forderungen beteiligen wollen\, es gibt eine Recherchegruppe\, es wird versucht Veranstaltungen zu organisieren\, mit Presse und Politik werden Kontakte geknüpft\, für neue Ideen sind wir offen\, anmelden über Regina: LKBerlin@dreissig.net\, dann bekommt Ihr den Einwahllink
URL:https://verschickungsheime.de/event/berliner-online-aktivenschalte/
END:VEVENT
END:VCALENDAR