BEGIN:VCALENDAR
VERSION:2.0
PRODID:-//Verschickungsheime - ECPv6.15.20//NONSGML v1.0//EN
CALSCALE:GREGORIAN
METHOD:PUBLISH
X-ORIGINAL-URL:https://verschickungsheime.de
X-WR-CALDESC:Veranstaltungen für Verschickungsheime
REFRESH-INTERVAL;VALUE=DURATION:PT1H
X-Robots-Tag:noindex
X-PUBLISHED-TTL:PT1H
BEGIN:VTIMEZONE
TZID:Europe/Berlin
BEGIN:DAYLIGHT
TZOFFSETFROM:+0100
TZOFFSETTO:+0200
TZNAME:CEST
DTSTART:20210328T010000
END:DAYLIGHT
BEGIN:STANDARD
TZOFFSETFROM:+0200
TZOFFSETTO:+0100
TZNAME:CET
DTSTART:20211031T010000
END:STANDARD
BEGIN:DAYLIGHT
TZOFFSETFROM:+0100
TZOFFSETTO:+0200
TZNAME:CEST
DTSTART:20220327T010000
END:DAYLIGHT
BEGIN:STANDARD
TZOFFSETFROM:+0200
TZOFFSETTO:+0100
TZNAME:CET
DTSTART:20221030T010000
END:STANDARD
BEGIN:DAYLIGHT
TZOFFSETFROM:+0100
TZOFFSETTO:+0200
TZNAME:CEST
DTSTART:20230326T010000
END:DAYLIGHT
BEGIN:STANDARD
TZOFFSETFROM:+0200
TZOFFSETTO:+0100
TZNAME:CET
DTSTART:20231029T010000
END:STANDARD
END:VTIMEZONE
BEGIN:VEVENT
DTSTART;TZID=Europe/Berlin:20221020T180000
DTEND;TZID=Europe/Berlin:20221020T200000
DTSTAMP:20260422T235805
CREATED:20220907T050909Z
LAST-MODIFIED:20220907T050926Z
UID:10000824-1666288800-1666296000@verschickungsheime.de
SUMMARY:20. Videotreffen NRW
DESCRIPTION:Wir laden alle Betroffenen mit NRW-Relevanz (aus NRW in ein anderes Bundesland\, oder aus einem anderen Bundesland nach NRW verschickt\, oder keins von beiden\, jedoch aktueller Wohnort in NRW und interessiert) zum 20. Videotreffen am Donnerstag\, den 20.10.2022\, 18.00 – 20.00 Uhr ein.Wer den Einladungslink nicht per NRW-Verteiler automatisch erhält\, kann sich gerne unter detlef.lichtrauter@akv-nrw.de oder unter jutta.redecker@akv-nrw anmelden.Wir freuen uns über eure Teilnahme und grüßen ganz herzlich.Detlef LichtrauterMichael Millgramm
URL:https://verschickungsheime.de/event/20-videotreffen-nrw/
CATEGORIES:NRW
END:VEVENT
BEGIN:VEVENT
DTSTART;TZID=Europe/Berlin:20221020T183000
DTEND;TZID=Europe/Berlin:20221020T193000
DTSTAMP:20260422T235805
CREATED:20220917T135121Z
LAST-MODIFIED:20221016T181339Z
UID:10000682-1666290600-1666294200@verschickungsheime.de
SUMMARY:Videotreffen für Betroffene aus Haus Gutermann\, Oberstdorf
DESCRIPTION:Interessierte bitte anmelden bei Birgit oberstdorf@verschickungsheime.de
URL:https://verschickungsheime.de/event/vidotreffen-fuer-betroffene-aus-haus-gutermann-oberstdorf/
END:VEVENT
END:VCALENDAR