BEGIN:VCALENDAR
VERSION:2.0
PRODID:-//Verschickungsheime - ECPv6.15.20//NONSGML v1.0//EN
CALSCALE:GREGORIAN
METHOD:PUBLISH
X-WR-CALNAME:Verschickungsheime
X-ORIGINAL-URL:https://verschickungsheime.de
X-WR-CALDESC:Veranstaltungen für Verschickungsheime
REFRESH-INTERVAL;VALUE=DURATION:PT1H
X-Robots-Tag:noindex
X-PUBLISHED-TTL:PT1H
BEGIN:VTIMEZONE
TZID:Europe/Berlin
BEGIN:DAYLIGHT
TZOFFSETFROM:+0100
TZOFFSETTO:+0200
TZNAME:CEST
DTSTART:20210328T010000
END:DAYLIGHT
BEGIN:STANDARD
TZOFFSETFROM:+0200
TZOFFSETTO:+0100
TZNAME:CET
DTSTART:20211031T010000
END:STANDARD
BEGIN:DAYLIGHT
TZOFFSETFROM:+0100
TZOFFSETTO:+0200
TZNAME:CEST
DTSTART:20220327T010000
END:DAYLIGHT
BEGIN:STANDARD
TZOFFSETFROM:+0200
TZOFFSETTO:+0100
TZNAME:CET
DTSTART:20221030T010000
END:STANDARD
BEGIN:DAYLIGHT
TZOFFSETFROM:+0100
TZOFFSETTO:+0200
TZNAME:CEST
DTSTART:20230326T010000
END:DAYLIGHT
BEGIN:STANDARD
TZOFFSETFROM:+0200
TZOFFSETTO:+0100
TZNAME:CET
DTSTART:20231029T010000
END:STANDARD
END:VTIMEZONE
BEGIN:VEVENT
DTSTART;TZID=Europe/Berlin:20221201T100000
DTEND;TZID=Europe/Berlin:20221201T100000
DTSTAMP:20260422T211935
CREATED:20221103T114942Z
LAST-MODIFIED:20221103T115244Z
UID:10000846-1669888800-1669888800@verschickungsheime.de
SUMMARY:Heidelberg: Vortrag zum Elend der Verschickungskindern
DESCRIPTION:Am 1.12.22 um 10 Uhr\, Vortrag: Das Elend der Verschickungskinder\, im Rahmen des Haupt-und Oberseminars “Geschichte der Kindheit und Sorge im 19. und 20. Jahrhundert”\, am Institut für Ethik und Geschichte der Medizin\, im Neuenheimer Feld 327\, 69115 Heidelberg\, anmelden unter: Tel.: +49 (0)6221-548213/12 oder unter der E-Mail: karen.nolte@histmed.uni-heidelberg.de
URL:https://verschickungsheime.de/event/heidelberg-vortrag-zum-elend-der-verschickungskindern/
END:VEVENT
END:VCALENDAR