BEGIN:VCALENDAR
VERSION:2.0
PRODID:-//Verschickungsheime - ECPv6.15.20//NONSGML v1.0//EN
CALSCALE:GREGORIAN
METHOD:PUBLISH
X-WR-CALNAME:Verschickungsheime
X-ORIGINAL-URL:https://verschickungsheime.de
X-WR-CALDESC:Veranstaltungen für Verschickungsheime
REFRESH-INTERVAL;VALUE=DURATION:PT1H
X-Robots-Tag:noindex
X-PUBLISHED-TTL:PT1H
BEGIN:VTIMEZONE
TZID:Europe/Berlin
BEGIN:DAYLIGHT
TZOFFSETFROM:+0100
TZOFFSETTO:+0200
TZNAME:CEST
DTSTART:20210328T010000
END:DAYLIGHT
BEGIN:STANDARD
TZOFFSETFROM:+0200
TZOFFSETTO:+0100
TZNAME:CET
DTSTART:20211031T010000
END:STANDARD
BEGIN:DAYLIGHT
TZOFFSETFROM:+0100
TZOFFSETTO:+0200
TZNAME:CEST
DTSTART:20220327T010000
END:DAYLIGHT
BEGIN:STANDARD
TZOFFSETFROM:+0200
TZOFFSETTO:+0100
TZNAME:CET
DTSTART:20221030T010000
END:STANDARD
BEGIN:DAYLIGHT
TZOFFSETFROM:+0100
TZOFFSETTO:+0200
TZNAME:CEST
DTSTART:20230326T010000
END:DAYLIGHT
BEGIN:STANDARD
TZOFFSETFROM:+0200
TZOFFSETTO:+0100
TZNAME:CET
DTSTART:20231029T010000
END:STANDARD
END:VTIMEZONE
BEGIN:VEVENT
DTSTART;TZID=Europe/Berlin:20221202T180000
DTEND;TZID=Europe/Berlin:20221202T190000
DTSTAMP:20260422T212431
CREATED:20221124T052858Z
LAST-MODIFIED:20221124T052900Z
UID:10000861-1670004000-1670007600@verschickungsheime.de
SUMMARY:Prof. Dr. Schmuhl: Ein langes Schweigen ist gebrochen: Zoom-Vortrag am 2. Dezember 2022
DESCRIPTION:Der NRW Landesverein hat Prof. Dr. Schmuhl eingeladen zu einer Zoom-Veranstaltung zum Thema: Kinderkurheime in der Bundesrepublik Deutschland. Anmelden dazu bei: projekt@akv-nrw.de
URL:https://verschickungsheime.de/event/prof-dr-schmuhl-ein-langes-schweigen-ist-gebrochen-zoom-vortrag-am-2-dezember-2022/
END:VEVENT
BEGIN:VEVENT
DTSTART;TZID=Europe/Berlin:20221202T183000
DTEND;TZID=Europe/Berlin:20221202T203000
DTSTAMP:20260422T212431
CREATED:20221119T222755Z
LAST-MODIFIED:20221119T222804Z
UID:10000856-1670005800-1670013000@verschickungsheime.de
SUMMARY:Videotreffen für Betroffene sexueller Gewalt
DESCRIPTION:Interessierte können sich an Birgit\, verschickung-wessobrunn@svaiki.de wenden
URL:https://verschickungsheime.de/event/videotreffen-fuer-betroffene-sexueller-gewalt/
END:VEVENT
END:VCALENDAR