BEGIN:VCALENDAR
VERSION:2.0
PRODID:-//Verschickungsheime - ECPv6.15.20//NONSGML v1.0//EN
CALSCALE:GREGORIAN
METHOD:PUBLISH
X-ORIGINAL-URL:https://verschickungsheime.de
X-WR-CALDESC:Veranstaltungen für Verschickungsheime
REFRESH-INTERVAL;VALUE=DURATION:PT1H
X-Robots-Tag:noindex
X-PUBLISHED-TTL:PT1H
BEGIN:VTIMEZONE
TZID:Europe/Berlin
BEGIN:DAYLIGHT
TZOFFSETFROM:+0100
TZOFFSETTO:+0200
TZNAME:CEST
DTSTART:20220327T010000
END:DAYLIGHT
BEGIN:STANDARD
TZOFFSETFROM:+0200
TZOFFSETTO:+0100
TZNAME:CET
DTSTART:20221030T010000
END:STANDARD
BEGIN:DAYLIGHT
TZOFFSETFROM:+0100
TZOFFSETTO:+0200
TZNAME:CEST
DTSTART:20230326T010000
END:DAYLIGHT
BEGIN:STANDARD
TZOFFSETFROM:+0200
TZOFFSETTO:+0100
TZNAME:CET
DTSTART:20231029T010000
END:STANDARD
BEGIN:DAYLIGHT
TZOFFSETFROM:+0100
TZOFFSETTO:+0200
TZNAME:CEST
DTSTART:20240331T010000
END:DAYLIGHT
BEGIN:STANDARD
TZOFFSETFROM:+0200
TZOFFSETTO:+0100
TZNAME:CET
DTSTART:20241027T010000
END:STANDARD
END:VTIMEZONE
BEGIN:VEVENT
DTSTART;TZID=Europe/Berlin:20230110T180000
DTEND;TZID=Europe/Berlin:20230110T200000
DTSTAMP:20260422T200833
CREATED:20221218T171140Z
LAST-MODIFIED:20221218T171627Z
UID:10000869-1673373600-1673380800@verschickungsheime.de
SUMMARY:Videotreffen Bayern
DESCRIPTION:Wir laden alle Verschickungskinder ein\, die nach Bayern oder von Bayern aus verschickt waren oder derzeit Wohnort in Bayern haben zum Videotreffen.Bitte meldet euch an unter bayern@verschickungsheime.de. Gerne auch mit Vorschlägen für die Tagesordnung.Wir freuen uns auf rege Teilnahme!Landeskoordination Bayern
URL:https://verschickungsheime.de/event/videotreffen-bayern/
END:VEVENT
BEGIN:VEVENT
DTSTART;TZID=Europe/Berlin:20230110T180000
DTEND;TZID=Europe/Berlin:20230110T200000
DTSTAMP:20260422T200833
CREATED:20221220T105556Z
LAST-MODIFIED:20221220T105557Z
UID:10000870-1673373600-1673380800@verschickungsheime.de
SUMMARY:25. Videotreffen Niedersachsen
DESCRIPTION:
URL:https://verschickungsheime.de/event/25-videotreffen-niedersachsen/
END:VEVENT
END:VCALENDAR